{"text_format":"1","workbook":"xlsx","n_sheets":6,"sheets":["Умная Т","Все МО","10 лучших","10 худших","Помесячно по МО","Дашборд ДВН"],"not_rendered":{"charts":8,"images":3,"macros":1,"external_links":0,"defined_names":2,"comments":0,"pivot_tables":4},"unopened":[],"bounds":{"document_bytes":16777216,"sheet_cells":100000,"rows_first":2000,"rows_last":500,"rows_between":2000,"halvings":0,"cell_chars":16384,"cell_head_chars":4096},"cells_cut":0,"cells_raw":0,"read":"whole","date_system":"1900"}

{"sheet":"Умная Т","index":0,"n_rows":243,"n_cols":67,"rows_kept":243,"cut":false,"hidden":true,"merged":[]}
[null,null,"Калужская область                                            по состоянию на 01.12.2022 г.",{"$f":"SUM(Таблица1[Оплачено случаев])","v":51026},null,{"$f":"SUM(Таблица1[План ДВН, чел.])","v":47862},null,null,"Выполнение плана, %",{"$f":"ROUND(D1/F1,3)","v":1.0660000000000001},null,null,null,null,null,{"$f":"(K24+P24+U24+Z24+AE24+AJ24+AO24+AT24+AY24+BD24+BI24+BN24)/(J24+O24+T24+Y24+AD24+AI24+AN24+AS24+AX24+BC24+BH24+BM24)*1000","v":2043.5469513581311}]
[null,null,"Средний тариф ДВН",{"$f":"P1","v":2043.5469513581311},null,null,null,null,null,null,"ФАКТ","ПЛАН",null,null,"ФАКТ",null,"ПЛАН",null,null,"ФАКТ",null,"ПЛАН",null,null,"ФАКТ",null,"ПЛАН",null,null,"ФАКТ",null,"ПЛАН",null,null,"ФАКТ",null,"ПЛАН",null,null,"ФАКТ",null,"ПЛАН",null,null,"ФАКТ",null,"ПЛАН",null,null,"ФАКТ",null,"ПЛАН",null,null,"ФАКТ",null,"ПЛАН",null,null,"ФАКТ",null,"ПЛАН",null,null,"ФАКТ",null,"ПЛАН"]
["Месяц","Вид ","Наименование медицинской организации","Оплачено случаев","Оплачено сумма, тыс.руб.","План ДВН, чел.","Отклонение","% выполнения",null,"1мес","январь","январь","2 мес",null,"Февраль",null,"Февраль","3 мес",null,"Март",null,"Март","4 мес",null,"Апрель",null,"Апрель","5 мес",null,"Май",null,"Май","6 мес",null,"Июнь",null,"Июнь","7 мес",null,"Июль",null,"Июль","8 мес",null,"Август",null,"Август","9 мес",null,"Сентябрь",null,"Сентябрь","10 мес",null,"Октябрь",null,"Октябрь","11 мес",null,"Ноябрь",null,"Ноябрь","12 мес",null,"Декабрь",null,"Декабрь"]
["Январь","ДВН","ЦМБ № 1",{"$f":"J4","v":40},{"$f":"K4","v":80.712999999999994},{"$f":"L4","v":10},{"$f":"Таблица1[[#This Row],[Оплачено случаев]]-Таблица1[[#This Row],[План ДВН, чел.]]","v":30},{"$f":"ROUND(Таблица1[[#This Row],[Оплачено случаев]]/Таблица1[[#This Row],[План ДВН, чел.]]*100,1)","v":400},null,40,80.712999999999994,10,{"$f":"J4+O4","v":143},{"$f":"K4+P4","v":286.95456999999999},103,206.24157,101,{"$f":"M4+T4","v":293},{"$f":"N4+U4","v":581.33956000000001},150,294.38499000000002,134,{"$f":"R4+Y4","v":369},{"$f":"S4+Z4","v":735.01783},76,153.67827,139,{"$f":"W4+AD4","v":485},{"$f":"X4+AE4","v":964.48409000000004},116,229.46626000000001,131,{"$f":"AB4+AI4","v":615},{"$f":"AC4+AJ4","v":1228.5484900000001},130,264.06440000000003,135,{"$f":"AG4+AN4","v":737},{"$f":"AH4+AO4","v":1483.1635600000002},122,254.61507,139,{"$f":"AL4+AS4","v":876},{"$f":"AM4+AT4","v":1773.7905800000003},139,290.62702000000002,157,{"$f":"AQ4+AX4","v":991},{"$f":"AR4+AY4","v":2014.5948700000004},115,240.80429000000001,125,{"$f":"AV4+BC4","v":1143},{"$f":"AW4+BD4","v":2324.5680600000005},152,309.97318999999999,152,{"$f":"BH4+BA4","v":1244},{"$f":"BB4+BI4","v":2536.6247700000004},101,212.05670999999998,127,{"$f":"BF4+BM4","v":1395},{"$f":"BG4+BN4","v":2855.9323000000004},151,319.30753000000004]
["Январь","ДВН","ЦМБ № 2",{"$f":"J5","v":281},{"$f":"K5","v":550.70349999999996},{"$f":"L5","v":200},{"$f":"Таблица1[[#This Row],[Оплачено случаев]]-Таблица1[[#This Row],[План ДВН, чел.]]","v":81},{"$f":"ROUND(Таблица1[[#This Row],[Оплачено случаев]]/Таблица1[[#This Row],[План ДВН, чел.]]*100,1)","v":140.5},null,281,550.70349999999996,200,{"$f":"J5+O5","v":748},1476.37246,467,925.66896000000008,318,{"$f":"M5+T5","v":1092},{"$f":"N5+U5","v":2159.37417},344,683.00171000000012,281,{"$f":"R5+Y5","v":1212},{"$f":"S5+Z5","v":2395.1440499999999},120,235.76988,337,{"$f":"W5+AD5","v":1374},{"$f":"X5+AE5","v":2729.0149699999997},162,333.87091999999996,343,{"$f":"AB5+AI5","v":1687},{"$f":"AC5+AJ5","v":3362.79},313,633.77503000000002,342,{"$f":"AG5+AN5","v":1974},{"$f":"AH5+AO5","v":3982.4986100000001},287,619.70861000000002,350,{"$f":"AL5+AS5","v":2108},{"$f":"AM5+AT5","v":4255.9362200000005},134,273.43761000000001,200,{"$f":"AQ5+AX5","v":2354},{"$f":"AR5+AY5","v":4732.2275800000007},246,476.29136,200,{"$f":"AV5+BC5","v":2555},{"$f":"AW5+BD5","v":5132.1732500000007},201,399.94567000000001,200,{"$f":"BH5+BA5","v":2918},{"$f":"BB5+BI5","v":5880.024730000001},363,747.85148000000004,187,{"$f":"BF5+BM5","v":2927},{"$f":"BG5+BN5","v":5897.1922100000011},9,17.167480000000001]
["Январь","ДВН","ЦМБ № 3",43,78.700690000000009,69,{"$f":"Таблица1[[#This Row],[Оплачено случаев]]-Таблица1[[#This Row],[План ДВН, чел.]]","v":-26},{"$f":"ROUND(Таблица1[[#This Row],[Оплачено случаев]]/Таблица1[[#This Row],[План ДВН, чел.]]*100,1)","v":62.3},null,43,78.700690000000009,69,172,352.57622000000003,129,273.87553000000003,69,387,785.10585000000003,215,432.52963,165,612,1240.43166,225,455.32580999999999,165,764,1550.3798400000001,152,309.94817999999998,165,882,1784.3991800000001,118,234.01934,165,1009,2035.8816900000002,127,251.48251000000002,165,1132,2280.9224600000002,123,245.04076999999998,165,1206,2434.7854300000004,74,153.86296999999999,165,1288,2600.3147100000006,82,165.52928,165,1507,3058.9984600000007,219,458.68374999999997,152,1577,3197.1750300000008,70,138.17657]
["Январь","ДВН","ЦМБ № 4",17,31.865179999999999,10,{"$f":"Таблица1[[#This Row],[Оплачено случаев]]-Таблица1[[#This Row],[План ДВН, чел.]]","v":7},{"$f":"ROUND(Таблица1[[#This Row],[Оплачено случаев]]/Таблица1[[#This Row],[План ДВН, чел.]]*100,1)","v":170},null,17,31.865179999999999,10,30,59.144509999999997,13,27.279330000000002,32,62,128.23684,32,69.092330000000004,52,143,292.09240999999997,81,163.85557,52,189,388.13370999999995,46,96.041300000000007,52,202,414.03624999999994,13,25.902540000000002,44,272,555.8915199999999,70,141.85526999999999,42,284,582.82839999999987,12,26.936880000000002,42,312,639.12678999999991,28,56.298389999999998,42,368,761.94539999999995,56,122.81861000000001,42,466,978.76104999999995,98,216.81565000000001,40,579,1230.7526800000001,113,251.99163000000001]
["Январь","ДВН","ЦМБ № 5",134,291.89322999999996,32,{"$f":"Таблица1[[#This Row],[Оплачено случаев]]-Таблица1[[#This Row],[План ДВН, чел.]]","v":102},{"$f":"ROUND(Таблица1[[#This Row],[Оплачено случаев]]/Таблица1[[#This Row],[План ДВН, чел.]]*100,1)","v":418.8},null,134,291.89322999999996,32,404,865.2192399999999,270,573.32601,206,585,1245.2559199999998,181,380.03667999999999,214,744,1580.7491799999998,159,335.49326000000002,204,887,1868.7880499999997,143,288.03886999999997,172,1121,2366.4550999999997,234,497.66704999999996,221,1318,2778.3231799999999,197,411.86808000000002,204,1428,3010.4912399999998,110,232.16806,186,1484,3127.49685,56,117.00561,223,1630,3427.1672399999998,146,299.67039,188,1816,3813.2807099999995,186,386.11346999999995,150,1886,3967.9536899999994,70,154.67298000000002]
["Январь","ДВН","ЦМБ № 6",273,567.09843999999998,238,{"$f":"Таблица1[[#This Row],[Оплачено случаев]]-Таблица1[[#This Row],[План ДВН, чел.]]","v":35},{"$f":"ROUND(Таблица1[[#This Row],[Оплачено случаев]]/Таблица1[[#This Row],[План ДВН, чел.]]*100,1)","v":114.7},null,273,567.09843999999998,238,597,1216.6659199999999,324,649.56747999999993,460,974,1994.8451799999998,377,778.17926,343,1198,2431.7361199999996,224,436.89094,343,1449,2935.8469799999993,251,504.11086,243,1665,3379.3635699999995,216,443.51659000000001,243,1826,3711.4714699999995,161,332.10790000000003,343,1989,4035.3452499999994,163,323.87378000000001,160,2123,4312.518039999999,134,277.17278999999996,160,2349,4764.9077599999991,226,452.38971999999995,160,2802,5696.4911399999992,453,931.58338000000003,157,3408,6905.2409199999993,606,1208.7497800000001]
["Январь","ДВН","КГБ № 5",991,1949.8074899999999,1005,{"$f":"Таблица1[[#This Row],[Оплачено случаев]]-Таблица1[[#This Row],[План ДВН, чел.]]","v":-14},{"$f":"ROUND(Таблица1[[#This Row],[Оплачено случаев]]/Таблица1[[#This Row],[План ДВН, чел.]]*100,1)","v":98.6},null,991,1949.8074899999999,1005,1911,3807.6651499999998,920,1857.8576599999999,1005,2822,5647.9172099999996,911,1840.25206,1005,3600,7189.4508100000003,778,1541.5336000000002,1005,4650,9344.2913100000005,1050,2154.8404999999998,1005,5685,11410.235920000001,1035,2065.94461,1005,6520,13069.22716,835,1658.9912400000001,1005,7317,14672.117389999999,797,1602.89023,1288,8292,16585.424309999999,975,1913.30692,1288,8484,16960.158359999998,192,374.73404999999997,814,9502,19024.968929999999,1018,2064.8105700000001,815,9604,19232.796539999999,102,207.82760999999999]
["Январь","ДВН","КГКБ № 4",246,497.51519000000002,430,{"$f":"Таблица1[[#This Row],[Оплачено случаев]]-Таблица1[[#This Row],[План ДВН, чел.]]","v":-184},{"$f":"ROUND(Таблица1[[#This Row],[Оплачено случаев]]/Таблица1[[#This Row],[План ДВН, чел.]]*100,1)","v":57.2},null,246,497.51519000000002,430,587,1181.8394600000001,341,684.32427000000007,430,1020,2062.8348800000003,433,880.99542000000008,430,1385,2808.9555800000003,365,746.12069999999994,430,1714,3497.0635100000004,329,688.10793000000001,430,1989,4058.4723800000002,275,561.40886999999998,430,2416,4935.4034000000001,427,876.93101999999999,430,2989,6115.2028300000002,573,1179.79943,430,3521,7228.4241600000005,532,1113.2213300000001,430,4445,9108.5437300000012,924,1880.1195700000001,430,5218,10741.472750000001,773,1632.92902,400,5867,12107.850690000001,649,1366.3779399999999]
["Январь","ДВН","Городская поликлиника",406,847.85620999999992,203,{"$f":"Таблица1[[#This Row],[Оплачено случаев]]-Таблица1[[#This Row],[План ДВН, чел.]]","v":203},{"$f":"ROUND(Таблица1[[#This Row],[Оплачено случаев]]/Таблица1[[#This Row],[План ДВН, чел.]]*100,1)","v":200},null,406,847.85620999999992,203,895,1869.6272300000001,489,1021.77102,562,1407,2947.1852699999999,512,1077.5580400000001,562,1853,3884.0834799999998,446,936.89820999999995,562,2279,4803.3734299999996,426,919.28994999999998,562,2652,5595.1010099999994,373,791.72757999999999,562,3079,6507.4714999999997,427,912.37049000000002,562,3367,7116.4620799999993,288,608.99057999999991,323,3665,7761.8905999999997,298,645.42852000000005,323,4076,8623.6389099999997,411,861.74831000000006,323,4528,9607.3470199999992,452,983.70811000000003,325,5078,10797.468079999999,550,1190.1210599999999]
["Январь","ДВН","МСЧ № 1 г. Калуги",148,271.78458000000001,55,{"$f":"Таблица1[[#This Row],[Оплачено случаев]]-Таблица1[[#This Row],[План ДВН, чел.]]","v":93},{"$f":"ROUND(Таблица1[[#This Row],[Оплачено случаев]]/Таблица1[[#This Row],[План ДВН, чел.]]*100,1)","v":269.10000000000002},null,148,271.78458000000001,55,148,271.78458000000001,null,0,55,148,271.78458000000001,null,0,55,255,487.81867999999997,107,216.0341,55,514,963.30728999999997,259,475.48860999999999,55,568,1062.78413,54,99.476839999999996,55,596,1113.2721799999999,28,50.488050000000001,55,596,1113.2721799999999,null,0,55,596,1113.2721799999999,null,0,120,597,1115.0540099999998,1,1.78183,120,603,1126.5809199999999,6,11.526909999999999,120,653,1210.4300899999998,50,83.849170000000001]
["Январь","ДВН","МСЧ № 2 г. Калуги",0,0,0,{"$f":"Таблица1[[#This Row],[Оплачено случаев]]-Таблица1[[#This Row],[План ДВН, чел.]]","v":0},{"$f":"ROUND(Таблица1[[#This Row],[Оплачено случаев]]/Таблица1[[#This Row],[План ДВН, чел.]]*100,1)","v":{"$error":"#DIV/0!"}},null,null,0,0,0,0,null,0,1,2,3.0237699999999998,2,3.0237699999999998,1,4,6.7354500000000002,2,3.7116799999999999,1,4,6.7354500000000002,null,0,1,4,6.7354500000000002,null,0,1,4,6.7354500000000002,null,0,1,4,6.7354500000000002,null,0,1,4,6.7354500000000002,null,0,1,4,6.7354500000000002,null,0,1,4,6.7354500000000002,null,0,1,4,6.7354500000000002,null,0]
["Январь","ДВН","МСЧ МВД",0,0,0,{"$f":"Таблица1[[#This Row],[Оплачено случаев]]-Таблица1[[#This Row],[План ДВН, чел.]]","v":0},{"$f":"ROUND(Таблица1[[#This Row],[Оплачено случаев]]/Таблица1[[#This Row],[План ДВН, чел.]]*100,1)","v":{"$error":"#DIV/0!"}},null,null,0,0,0,0,null,0,1,0,0,null,0,1,0,0,null,0,1,0,0,null,0,1,0,0,null,0,1,0,0,null,0,1,0,0,null,0,1,0,0,null,0,1,0,0,null,0,1,0,0,null,0,1,0,0,null,0]
["Январь","ДВН","ЧУЗ \"Больница \"РЖД - Медицина\" ",2,4.16127,7,{"$f":"Таблица1[[#This Row],[Оплачено случаев]]-Таблица1[[#This Row],[План ДВН, чел.]]","v":-5},{"$f":"ROUND(Таблица1[[#This Row],[Оплачено случаев]]/Таблица1[[#This Row],[План ДВН, чел.]]*100,1)","v":28.6},null,2,4.16127,7,13,25.425519999999999,11,21.264250000000001,26,14,27.207349999999998,1,1.78183,26,17,32.6999,3,5.4925500000000005,26,33,58.856020000000001,16,26.156119999999998,26,130,236.83459000000002,97,177.97857000000002,26,142,260.11962,12,23.285029999999999,26,158,293.46942999999999,16,33.349809999999998,26,203,388.92296999999996,45,95.45353999999999,26,296,580.43188999999995,93,191.50892000000002,26,369,725.88027999999997,73,145.44839000000002,29,377,743.96442000000002,8,18.084139999999998]
["Январь","ДВН","КБ № 8 ФМБА",188,384.02384000000001,730,{"$f":"Таблица1[[#This Row],[Оплачено случаев]]-Таблица1[[#This Row],[План ДВН, чел.]]","v":-542},{"$f":"ROUND(Таблица1[[#This Row],[Оплачено случаев]]/Таблица1[[#This Row],[План ДВН, чел.]]*100,1)","v":25.8},null,188,384.02384000000001,730,444,927.76540999999997,256,543.74156999999991,730,841,1734.8416,397,807.07619,730,1386,2844.01856,545,1109.17696,730,1866,3851.8980900000001,480,1007.87953,730,2685,5459.9910099999997,819,1608.0929199999998,730,3682,7402.33853,997,1942.34752,729,4597,9232.7685899999997,915,1830.4300600000001,729,6009,12024.64299,1412,2791.8743999999997,729,7409,14771.321830000001,1400,2746.67884,729,8703,17334.981449999999,1294,2563.6596199999999,704,9033,17958.800230000001,330,623.81878000000006]
["Январь","ДВН","ЦРБ Бабынинского района",19,37.615830000000003,81,{"$f":"Таблица1[[#This Row],[Оплачено случаев]]-Таблица1[[#This Row],[План ДВН, чел.]]","v":-62},{"$f":"ROUND(Таблица1[[#This Row],[Оплачено случаев]]/Таблица1[[#This Row],[План ДВН, чел.]]*100,1)","v":23.5},null,19,37.615830000000003,81,63,120.92638000000001,44,83.310550000000006,116,103,196.23659000000004,40,75.310210000000012,116,153,293.00972000000002,50,96.773130000000009,116,231,449.04671000000002,78,156.03699,116,240,467.59003000000001,9,18.543320000000001,116,388,772.92684000000008,148,305.33681000000001,116,695,1412.2955400000001,307,639.36869999999999,62,762,1553.31727,67,141.02173000000002,62,818,1659.7906499999999,56,106.47338000000001,62,875,1771.66597,57,111.87532,62,1089,2226.6094499999999,214,454.94347999999997]
["Январь","ДВН","ЦРБ Боровского района",135,288.08102000000002,12,{"$f":"Таблица1[[#This Row],[Оплачено случаев]]-Таблица1[[#This Row],[План ДВН, чел.]]","v":123},{"$f":"ROUND(Таблица1[[#This Row],[Оплачено случаев]]/Таблица1[[#This Row],[План ДВН, чел.]]*100,1)","v":1125},null,135,288.08102000000002,12,325,668.06713000000002,190,379.98611,325,635,1285.2897600000001,310,617.22262999999998,335,708,1440.3055400000001,73,155.01578000000001,335,1089,2216.4111499999999,381,776.10560999999996,12,1272,2590.2808299999997,183,373.86968000000002,325,1432,2943.9399599999997,160,353.65913,12,1576,3232.7956099999997,144,288.85565000000003,12,1748,3598.2634599999997,172,365.46785,328,1874,3874.0570399999997,126,275.79358000000002,325,2213,4581.0567099999998,339,706.99967000000004,309,2881,5942.6812399999999,668,1361.62453]
["Январь","ДВН","ЦРБ Жуковского района",18,36.913470000000004,82,{"$f":"Таблица1[[#This Row],[Оплачено случаев]]-Таблица1[[#This Row],[План ДВН, чел.]]","v":-64},{"$f":"ROUND(Таблица1[[#This Row],[Оплачено случаев]]/Таблица1[[#This Row],[План ДВН, чел.]]*100,1)","v":22},null,18,36.913470000000004,82,105,214.12988999999999,87,177.21642,80,152,308.99444,47,94.864550000000008,82,240,502.17998999999998,88,193.18554999999998,82,302,631.25747000000001,62,129.07748000000001,82,342,712.86483999999996,40,81.607369999999989,82,418,881.51859999999999,76,168.65376000000001,82,486,1028.67722,68,147.15861999999998,82,663,1408.83563,177,380.15840999999995,82,962,2018.9948100000001,299,610.15918000000011,82,1568,3427.1493500000001,606,1408.15454,82,1928,4292.1916300000003,360,865.04228000000001]
["Январь","ДВН","ГП \"Город Кременки\"",8,15.7775,28,{"$f":"Таблица1[[#This Row],[Оплачено случаев]]-Таблица1[[#This Row],[План ДВН, чел.]]","v":-20},{"$f":"ROUND(Таблица1[[#This Row],[Оплачено случаев]]/Таблица1[[#This Row],[План ДВН, чел.]]*100,1)","v":28.6},null,8,15.7775,28,23,49.541160000000005,15,33.763660000000002,26,50,110.32478,27,60.783619999999999,28,72,159.22146000000001,22,48.896680000000003,28,106,240.94299999999998,34,81.72153999999999,28,138,316.30908999999997,32,75.36609,28,175,402.17481999999995,37,85.865729999999999,28,204,466.10586999999998,29,63.931050000000006,28,223,505.18047999999999,19,39.07461,28,258,584.76112999999998,35,79.580649999999991,28,275,623.05513999999994,17,38.29401,22,509,1109.3671099999999,234,486.31196999999997]
["Январь","ДВН","ЦРБ Малоярославецкого района",91,190.90192999999999,10,{"$f":"Таблица1[[#This Row],[Оплачено случаев]]-Таблица1[[#This Row],[План ДВН, чел.]]","v":81},{"$f":"ROUND(Таблица1[[#This Row],[Оплачено случаев]]/Таблица1[[#This Row],[План ДВН, чел.]]*100,1)","v":910},null,91,190.90192999999999,10,232,483.31188000000003,141,292.40995000000004,160,385,788.83775000000003,153,305.52587,160,551,1121.87817,166,333.04041999999998,160,720,1463.22939,169,341.35121999999996,160,868,1762.0293099999999,148,298.79991999999999,160,956,1937.31575,88,175.28644,160,1072,2181.8765800000001,116,244.56082999999998,160,1194,2419.3681000000001,122,237.49151999999998,160,1321,2657.9303300000001,127,238.56223,160,1475,2973.39752,154,315.46719000000002,140,1565,3157.9734800000001,90,184.57595999999998]
["Январь","ДВН","ЦРБ  Тарусского района",26,56.644040000000004,30,{"$f":"Таблица1[[#This Row],[Оплачено случаев]]-Таблица1[[#This Row],[План ДВН, чел.]]","v":-4},{"$f":"ROUND(Таблица1[[#This Row],[Оплачено случаев]]/Таблица1[[#This Row],[План ДВН, чел.]]*100,1)","v":86.7},null,26,56.644040000000004,30,39,83.002549999999999,13,26.358509999999999,39,61,133.1634,22,50.160849999999996,91,134,285.35144000000003,73,152.18804,98,176,375.59153000000003,42,90.240089999999995,93,309,665.20666000000006,133,289.61513000000002,78,350,758.40872000000002,41,93.202060000000003,81,392,850.28576999999996,42,91.877049999999997,25,441,949.34085999999991,49,99.055089999999993,30,513,1097.4040699999998,72,148.06321,25,541,1157.0338999999999,28,59.629829999999998,10,666,1432.9114999999999,125,275.87759999999997]
["Февраль","ДВН","ЦМБ № 1",{"$f":"O4","v":103},{"$f":"P4","v":206.24157},{"$f":"Q4","v":101},{"$f":"Таблица1[[#This Row],[Оплачено случаев]]-Таблица1[[#This Row],[План ДВН, чел.]]","v":2},{"$f":"ROUND(Таблица1[[#This Row],[Оплачено случаев]]/Таблица1[[#This Row],[План ДВН, чел.]]*100,1)","v":102},null,{"$f":"SUM(J4:J23)","v":3066},6182.0564099999992,3232,6879,13960.019259999999,3813,7777.9628499999999,4742,11033,22411.798899999994,4154,8451.7796400000007,4811,14636,29730.88003,3603,7319.0811299999996,4869,18832,38338.651989999998,4196,8607.7719599999982,4407,23054,46880.027840000002,4222,8541.3758500000004,4749,27294,55538.082560000003,4240,8658.0547199999983,{"$f":"SUM(AP4:AP23)","v":4531},31270,63661.378689999998,3976,8123.2961300000006,4132,35791,72804.368019999994,4521,9142.9893300000003,4523,40390,82069.898630000011,4599,9265.5306100000016,4033,46627,95065.506249999991,6237,12995.607619999997,3833,51026,104274.02674000002,4399,9208.5204900000008]
["Февраль","ДВН","ЦМБ № 2",467,925.66896000000008,318,{"$f":"Таблица1[[#This Row],[Оплачено случаев]]-Таблица1[[#This Row],[План ДВН, чел.]]","v":149},{"$f":"ROUND(Таблица1[[#This Row],[Оплачено случаев]]/Таблица1[[#This Row],[План ДВН, чел.]]*100,1)","v":146.9},null,null,null,null,null,{"$f":"N24*1000/M24","v":2029.3675330716674}]
["Февраль","ДВН","ЦМБ № 3",129,273.87553000000003,69,{"$f":"Таблица1[[#This Row],[Оплачено случаев]]-Таблица1[[#This Row],[План ДВН, чел.]]","v":60},{"$f":"ROUND(Таблица1[[#This Row],[Оплачено случаев]]/Таблица1[[#This Row],[План ДВН, чел.]]*100,1)","v":187}]
["Февраль","ДВН","ЦМБ № 4",13,27.279330000000002,32,{"$f":"Таблица1[[#This Row],[Оплачено случаев]]-Таблица1[[#This Row],[План ДВН, чел.]]","v":-19},{"$f":"ROUND(Таблица1[[#This Row],[Оплачено случаев]]/Таблица1[[#This Row],[План ДВН, чел.]]*100,1)","v":40.6},null,{"$f":"J5+#REF!","v":{"$error":"#REF!"}},{"$f":"K5+#REF!","v":{"$error":"#REF!"}},{"$f":"L5+#REF!","v":{"$error":"#REF!"}},{"$f":"M5+#REF!","v":{"$error":"#REF!"}},{"$f":"N5+#REF!","v":{"$error":"#REF!"}},{"$f":"O5+#REF!","v":{"$error":"#REF!"}},{"$f":"P5+#REF!","v":{"$error":"#REF!"}},{"$f":"Q5+#REF!","v":{"$error":"#REF!"}},{"$f":"R5+#REF!","v":{"$error":"#REF!"}},{"$f":"S5+#REF!","v":{"$error":"#REF!"}},{"$f":"T5+#REF!","v":{"$error":"#REF!"}},{"$f":"U5+#REF!","v":{"$error":"#REF!"}},{"$f":"V5+#REF!","v":{"$error":"#REF!"}},{"$f":"W5+#REF!","v":{"$error":"#REF!"}},{"$f":"X5+#REF!","v":{"$error":"#REF!"}},{"$f":"Y5+#REF!","v":{"$error":"#REF!"}},{"$f":"Z5+#REF!","v":{"$error":"#REF!"}},{"$f":"AA5+#REF!","v":{"$error":"#REF!"}}]
["Февраль","ДВН","ЦМБ № 5",270,573.32601,206,{"$f":"Таблица1[[#This Row],[Оплачено случаев]]-Таблица1[[#This Row],[План ДВН, чел.]]","v":64},{"$f":"ROUND(Таблица1[[#This Row],[Оплачено случаев]]/Таблица1[[#This Row],[План ДВН, чел.]]*100,1)","v":131.1},null,null,{"$f":"K4/1000","v":8.0712999999999993E-2},null,null,null,null,{"$f":"P4/1000","v":0.20624156999999999},null,null,null,null,{"$f":"U4/1000","v":0.29438499000000001},null,null,null,null,{"$f":"Z4/1000","v":0.15367827000000001},null,null,null,null,{"$f":"AE4/1000","v":0.22946626000000001},null,null,null,null,{"$f":"AJ4/1000","v":0.26406440000000003},null,null,null,null,{"$f":"AO4/1000","v":0.25461507},null,null,null,null,{"$f":"AT4/1000","v":0.29062702000000001},null,null,null,null,{"$f":"AY4/1000","v":0.24080429},null,null,null,null,{"$f":"BD4/1000","v":0.30997319000000001},null,null,null,null,{"$f":"BI4/1000","v":0.21205670999999998}]
["Февраль","ДВН","ЦМБ № 6",324,649.56747999999993,460,{"$f":"Таблица1[[#This Row],[Оплачено случаев]]-Таблица1[[#This Row],[План ДВН, чел.]]","v":-136},{"$f":"ROUND(Таблица1[[#This Row],[Оплачено случаев]]/Таблица1[[#This Row],[План ДВН, чел.]]*100,1)","v":70.400000000000006},null,null,{"$f":"K5/1000","v":0.55070350000000001},null,null,null,null,{"$f":"P5/1000","v":0.9256689600000001},null,null,null,null,{"$f":"U5/1000","v":0.6830017100000001},null,null,null,null,{"$f":"Z5/1000","v":0.23576987999999999},null,null,null,null,{"$f":"AE5/1000","v":0.33387091999999996},null,null,null,null,{"$f":"AJ5/1000","v":0.63377503000000002},null,null,null,null,{"$f":"AO5/1000","v":0.61970860999999999},null,null,null,null,{"$f":"AT5/1000","v":0.27343761},null,null,null,null,{"$f":"AY5/1000","v":0.47629136},null,null,null,null,{"$f":"BD5/1000","v":0.39994567000000003},null,null,null,null,{"$f":"BI5/1000","v":0.74785148000000001}]
["Февраль","ДВН","КГБ № 5",920,1857.8576599999999,1005,{"$f":"Таблица1[[#This Row],[Оплачено случаев]]-Таблица1[[#This Row],[План ДВН, чел.]]","v":-85},{"$f":"ROUND(Таблица1[[#This Row],[Оплачено случаев]]/Таблица1[[#This Row],[План ДВН, чел.]]*100,1)","v":91.5},null,null,7.8700690000000004E-2,null,null,null,null,0.27387553000000003,null,null,null,null,0.43252963,null,null,null,null,0.45532581,null,null,null,null,0.30994817999999996,null,null,null,null,0.23401933999999999,null,null,null,null,0.25148250999999999,null,null,null,null,0.24504076999999999,null,null,null,null,0.15386296999999999,null,null,null,null,0.16552928,null,null,null,null,0.45868375]
["Февраль","ДВН","КГКБ № 4",341,684.32427000000007,430,{"$f":"Таблица1[[#This Row],[Оплачено случаев]]-Таблица1[[#This Row],[План ДВН, чел.]]","v":-89},{"$f":"ROUND(Таблица1[[#This Row],[Оплачено случаев]]/Таблица1[[#This Row],[План ДВН, чел.]]*100,1)","v":79.3},null,null,3.186518E-2,null,null,null,null,2.7279330000000001E-2,null,null,null,null,6.9092330000000007E-2,null,null,null,null,0.16385557000000001,null,null,null,null,9.604130000000001E-2,null,null,null,null,2.5902540000000002E-2,null,null,null,null,0.14185526999999998,null,null,null,null,2.6936880000000003E-2,null,null,null,null,5.6298389999999997E-2,null,null,null,null,0.12281861000000001,null,null,null,null,0.21681565]
["Февраль","ДВН","Городская поликлиника",489,1021.77102,562,{"$f":"Таблица1[[#This Row],[Оплачено случаев]]-Таблица1[[#This Row],[План ДВН, чел.]]","v":-73},{"$f":"ROUND(Таблица1[[#This Row],[Оплачено случаев]]/Таблица1[[#This Row],[План ДВН, чел.]]*100,1)","v":87},null,null,0.29189322999999995,null,null,null,null,0.57332600999999994,null,null,null,null,0.38003668000000002,null,null,null,null,0.33549326000000002,null,null,null,null,0.28803886999999995,null,null,null,null,0.49766704999999994,null,null,null,null,0.41186808000000003,null,null,null,null,0.23216806000000001,null,null,null,null,0.11700561000000001,null,null,null,null,0.29967039000000001,null,null,null,null,0.38611346999999996]
["Февраль","ДВН","МСЧ № 1 г. Калуги",0,0,55,{"$f":"Таблица1[[#This Row],[Оплачено случаев]]-Таблица1[[#This Row],[План ДВН, чел.]]","v":-55},{"$f":"ROUND(Таблица1[[#This Row],[Оплачено случаев]]/Таблица1[[#This Row],[План ДВН, чел.]]*100,1)","v":0},null,null,0.56709843999999998,null,null,null,null,0.64956747999999997,null,null,null,null,0.77817926000000004,null,null,null,null,0.43689094000000001,null,null,null,null,0.50411086000000005,null,null,null,null,0.44351658999999999,null,null,null,null,0.33210790000000001,null,null,null,null,0.32387378,null,null,null,null,0.27717278999999995,null,null,null,null,0.45238971999999994,null,null,null,null,0.93158338000000007]
["Февраль","ДВН","МСЧ № 2 г. Калуги",0,0,1,{"$f":"Таблица1[[#This Row],[Оплачено случаев]]-Таблица1[[#This Row],[План ДВН, чел.]]","v":-1},{"$f":"ROUND(Таблица1[[#This Row],[Оплачено случаев]]/Таблица1[[#This Row],[План ДВН, чел.]]*100,1)","v":0},null,null,1.94980749,null,null,null,null,1.8578576599999999,null,null,null,null,1.8402520600000001,null,null,null,null,1.5415336000000002,null,null,null,null,2.1548404999999997,null,null,null,null,2.0659446099999998,null,null,null,null,1.65899124,null,null,null,null,1.6028902300000001,null,null,null,null,1.9133069199999999,null,null,null,null,0.37473404999999999,null,null,null,null,2.0648105700000001]
["Февраль","ДВН","МСЧ МВД",0,0,1,{"$f":"Таблица1[[#This Row],[Оплачено случаев]]-Таблица1[[#This Row],[План ДВН, чел.]]","v":-1},{"$f":"ROUND(Таблица1[[#This Row],[Оплачено случаев]]/Таблица1[[#This Row],[План ДВН, чел.]]*100,1)","v":0},null,null,0.49751519,null,null,null,null,0.68432427000000007,null,null,null,null,0.88099542000000008,null,null,null,null,0.74612069999999997,null,null,null,null,0.68810793000000003,null,null,null,null,0.56140886999999995,null,null,null,null,0.87693102000000001,null,null,null,null,1.1797994300000001,null,null,null,null,1.11322133,null,null,null,null,1.88011957,null,null,null,null,1.63292902]
["Февраль","ДВН","ЧУЗ \"Больница \"РЖД - Медицина\" ",11,21.264250000000001,26,{"$f":"Таблица1[[#This Row],[Оплачено случаев]]-Таблица1[[#This Row],[План ДВН, чел.]]","v":-15},{"$f":"ROUND(Таблица1[[#This Row],[Оплачено случаев]]/Таблица1[[#This Row],[План ДВН, чел.]]*100,1)","v":42.3},null,null,0.84785620999999989,null,null,null,null,1.0217710200000001,null,null,null,null,1.0775580400000002,null,null,null,null,0.93689820999999995,null,null,null,null,0.91928995000000002,null,null,null,null,0.79172757999999999,null,null,null,null,0.91237049000000003,null,null,null,null,0.60899057999999995,null,null,null,null,0.64542852000000006,null,null,null,null,0.86174831000000007,null,null,null,null,0.98370811000000002]
["Февраль","ДВН","КБ № 8 ФМБА",256,543.74156999999991,730,{"$f":"Таблица1[[#This Row],[Оплачено случаев]]-Таблица1[[#This Row],[План ДВН, чел.]]","v":-474},{"$f":"ROUND(Таблица1[[#This Row],[Оплачено случаев]]/Таблица1[[#This Row],[План ДВН, чел.]]*100,1)","v":35.1},null,null,0.27178458,null,null,null,null,0,null,null,null,null,0,null,null,null,null,0.21603410000000001,null,null,null,null,0.47548860999999998,null,null,null,null,9.9476839999999997E-2,null,null,null,null,5.048805E-2,null,null,null,null,0,null,null,null,null,0,null,null,null,null,1.7818300000000001E-3,null,null,null,null,1.152691E-2]
["Февраль","ДВН","ЦРБ Бабынинского района",44,83.310550000000006,116,{"$f":"Таблица1[[#This Row],[Оплачено случаев]]-Таблица1[[#This Row],[План ДВН, чел.]]","v":-72},{"$f":"ROUND(Таблица1[[#This Row],[Оплачено случаев]]/Таблица1[[#This Row],[План ДВН, чел.]]*100,1)","v":37.9},null,null,0,null,null,null,null,0,null,null,null,null,3.0237699999999998E-3,null,null,null,null,3.7116799999999998E-3,null,null,null,null,0,null,null,null,null,0,null,null,null,null,0,null,null,null,null,0,null,null,null,null,0,null,null,null,null,0,null,null,null,null,0]
["Февраль","ДВН","ЦРБ Боровского района",190,379.98611,325,{"$f":"Таблица1[[#This Row],[Оплачено случаев]]-Таблица1[[#This Row],[План ДВН, чел.]]","v":-135},{"$f":"ROUND(Таблица1[[#This Row],[Оплачено случаев]]/Таблица1[[#This Row],[План ДВН, чел.]]*100,1)","v":58.5},null,null,0,null,null,null,null,0,null,null,null,null,0,null,null,null,null,0,null,null,null,null,0,null,null,null,null,0,null,null,null,null,0,null,null,null,null,0,null,null,null,null,0,null,null,null,null,0,null,null,null,null,0]
["Февраль","ДВН","ЦРБ Жуковского района",87,177.21642,80,{"$f":"Таблица1[[#This Row],[Оплачено случаев]]-Таблица1[[#This Row],[План ДВН, чел.]]","v":7},{"$f":"ROUND(Таблица1[[#This Row],[Оплачено случаев]]/Таблица1[[#This Row],[План ДВН, чел.]]*100,1)","v":108.8},null,null,4.1612699999999999E-3,null,null,null,null,2.1264250000000002E-2,null,null,null,null,1.7818300000000001E-3,null,null,null,null,5.4925500000000006E-3,null,null,null,null,2.6156119999999998E-2,null,null,null,null,0.17797857000000003,null,null,null,null,2.3285029999999998E-2,null,null,null,null,3.3349810000000001E-2,null,null,null,null,9.545353999999999E-2,null,null,null,null,0.19150892000000003,null,null,null,null,0.14544839000000001]
["Февраль","ДВН","ГП \"Город Кременки\"",15,33.763660000000002,26,{"$f":"Таблица1[[#This Row],[Оплачено случаев]]-Таблица1[[#This Row],[План ДВН, чел.]]","v":-11},{"$f":"ROUND(Таблица1[[#This Row],[Оплачено случаев]]/Таблица1[[#This Row],[План ДВН, чел.]]*100,1)","v":57.7},null,null,0.38402384000000001,null,null,null,null,0.5437415699999999,null,null,null,null,0.80707618999999997,null,null,null,null,1.1091769600000001,null,null,null,null,1.0078795300000001,null,null,null,null,1.6080929199999998,null,null,null,null,1.94234752,null,null,null,null,1.8304300600000001,null,null,null,null,2.7918743999999998,null,null,null,null,2.74667884,null,null,null,null,2.5636596199999997]
["Февраль","ДВН","ЦРБ Малоярославецкого района",141,292.40995000000004,160,{"$f":"Таблица1[[#This Row],[Оплачено случаев]]-Таблица1[[#This Row],[План ДВН, чел.]]","v":-19},{"$f":"ROUND(Таблица1[[#This Row],[Оплачено случаев]]/Таблица1[[#This Row],[План ДВН, чел.]]*100,1)","v":88.1},null,null,3.7615830000000003E-2,null,null,null,null,8.3310550000000011E-2,null,null,null,null,7.5310210000000016E-2,null,null,null,null,9.6773130000000013E-2,null,null,null,null,0.15603699000000001,null,null,null,null,1.8543320000000002E-2,null,null,null,null,0.30533681000000001,null,null,null,null,0.63936870000000001,null,null,null,null,0.14102173000000001,null,null,null,null,0.10647338000000001,null,null,null,null,0.11187532]
["Февраль","ДВН","ЦРБ  Тарусского района",13,26.358509999999999,39,{"$f":"Таблица1[[#This Row],[Оплачено случаев]]-Таблица1[[#This Row],[План ДВН, чел.]]","v":-26},{"$f":"ROUND(Таблица1[[#This Row],[Оплачено случаев]]/Таблица1[[#This Row],[План ДВН, чел.]]*100,1)","v":33.299999999999997},null,null,0.28808102000000002,null,null,null,null,0.37998610999999999,null,null,null,null,0.61722262999999999,null,null,null,null,0.15501578000000002,null,null,null,null,0.77610561,null,null,null,null,0.37386968000000004,null,null,null,null,0.35365912999999999,null,null,null,null,0.28885565000000002,null,null,null,null,0.36546784999999998,null,null,null,null,0.27579358000000004,null,null,null,null,0.70699967000000008]
["Март","ДВН","ЦМБ № 1",{"$f":"T4","v":150},{"$f":"U4","v":294.38499000000002},{"$f":"V4","v":134},{"$f":"Таблица1[[#This Row],[Оплачено случаев]]-Таблица1[[#This Row],[План ДВН, чел.]]","v":16},{"$f":"ROUND(Таблица1[[#This Row],[Оплачено случаев]]/Таблица1[[#This Row],[План ДВН, чел.]]*100,1)","v":111.9},null,null,3.6913470000000004E-2,null,null,null,null,0.17721641999999999,null,null,null,null,9.4864550000000006E-2,null,null,null,null,0.19318554999999998,null,null,null,null,0.12907748000000002,null,null,null,null,8.1607369999999985E-2,null,null,null,null,0.16865376000000001,null,null,null,null,0.14715861999999999,null,null,null,null,0.38015840999999995,null,null,null,null,0.61015918000000013,null,null,null,null,1.40815454]
["Март","ДВН","ЦМБ № 2",344,683.00171000000012,281,{"$f":"Таблица1[[#This Row],[Оплачено случаев]]-Таблица1[[#This Row],[План ДВН, чел.]]","v":63},{"$f":"ROUND(Таблица1[[#This Row],[Оплачено случаев]]/Таблица1[[#This Row],[План ДВН, чел.]]*100,1)","v":122.4},null,null,1.57775E-2,null,null,null,null,3.3763660000000001E-2,null,null,null,null,6.0783619999999997E-2,null,null,null,null,4.8896680000000005E-2,null,null,null,null,8.1721539999999995E-2,null,null,null,null,7.5366089999999997E-2,null,null,null,null,8.5865730000000001E-2,null,null,null,null,6.3931050000000003E-2,null,null,null,null,3.9074610000000003E-2,null,null,null,null,7.9580649999999989E-2,null,null,null,null,3.8294010000000003E-2]
["Март","ДВН","ЦМБ № 3",215,432.52963,165,{"$f":"Таблица1[[#This Row],[Оплачено случаев]]-Таблица1[[#This Row],[План ДВН, чел.]]","v":50},{"$f":"ROUND(Таблица1[[#This Row],[Оплачено случаев]]/Таблица1[[#This Row],[План ДВН, чел.]]*100,1)","v":130.30000000000001},null,null,0.19090193,null,null,null,null,0.29240995000000003,null,null,null,null,0.30552586999999998,null,null,null,null,0.33304042,null,null,null,null,0.34135121999999996,null,null,null,null,0.29879992,null,null,null,null,0.17528643999999999,null,null,null,null,0.24456082999999998,null,null,null,null,0.23749151999999998,null,null,null,null,0.23856222999999999,null,null,null,null,0.31546719000000001]
["Март","ДВН","ЦМБ № 4",32,69.092330000000004,52,{"$f":"Таблица1[[#This Row],[Оплачено случаев]]-Таблица1[[#This Row],[План ДВН, чел.]]","v":-20},{"$f":"ROUND(Таблица1[[#This Row],[Оплачено случаев]]/Таблица1[[#This Row],[План ДВН, чел.]]*100,1)","v":61.5},null,null,{"$f":"K23/1000","v":5.6644040000000007E-2},null,null,null,null,2.6358509999999998E-2,null,null,null,null,5.0160849999999993E-2,null,null,null,null,0.15218804,null,null,null,null,9.0240089999999995E-2,null,null,null,null,0.28961513,null,null,null,null,9.3202060000000003E-2,null,null,null,null,9.1877050000000002E-2,null,null,null,null,9.9055089999999998E-2,null,null,null,null,0.14806321,null,null,null,null,5.9629830000000002E-2]
["Март","ДВН","ЦМБ № 5",181,380.03667999999999,214,{"$f":"Таблица1[[#This Row],[Оплачено случаев]]-Таблица1[[#This Row],[План ДВН, чел.]]","v":-33},{"$f":"ROUND(Таблица1[[#This Row],[Оплачено случаев]]/Таблица1[[#This Row],[План ДВН, чел.]]*100,1)","v":84.6}]
["Март","ДВН","ЦМБ № 6",377,778.17926,343,{"$f":"Таблица1[[#This Row],[Оплачено случаев]]-Таблица1[[#This Row],[План ДВН, чел.]]","v":34},{"$f":"ROUND(Таблица1[[#This Row],[Оплачено случаев]]/Таблица1[[#This Row],[План ДВН, чел.]]*100,1)","v":109.9}]
["Март","ДВН","КГБ № 5",911,1840.25206,1005,{"$f":"Таблица1[[#This Row],[Оплачено случаев]]-Таблица1[[#This Row],[План ДВН, чел.]]","v":-94},{"$f":"ROUND(Таблица1[[#This Row],[Оплачено случаев]]/Таблица1[[#This Row],[План ДВН, чел.]]*100,1)","v":90.6}]
["Март","ДВН","КГКБ № 4",433,880.99542000000008,430,{"$f":"Таблица1[[#This Row],[Оплачено случаев]]-Таблица1[[#This Row],[План ДВН, чел.]]","v":3},{"$f":"ROUND(Таблица1[[#This Row],[Оплачено случаев]]/Таблица1[[#This Row],[План ДВН, чел.]]*100,1)","v":100.7}]
["Март","ДВН","Городская поликлиника",512,1077.5580400000001,562,{"$f":"Таблица1[[#This Row],[Оплачено случаев]]-Таблица1[[#This Row],[План ДВН, чел.]]","v":-50},{"$f":"ROUND(Таблица1[[#This Row],[Оплачено случаев]]/Таблица1[[#This Row],[План ДВН, чел.]]*100,1)","v":91.1}]
["Март","ДВН","МСЧ № 1 г. Калуги",0,0,55,{"$f":"Таблица1[[#This Row],[Оплачено случаев]]-Таблица1[[#This Row],[План ДВН, чел.]]","v":-55},{"$f":"ROUND(Таблица1[[#This Row],[Оплачено случаев]]/Таблица1[[#This Row],[План ДВН, чел.]]*100,1)","v":0}]
["Март","ДВН","МСЧ № 2 г. Калуги",2,3.0237699999999998,1,{"$f":"Таблица1[[#This Row],[Оплачено случаев]]-Таблица1[[#This Row],[План ДВН, чел.]]","v":1},{"$f":"ROUND(Таблица1[[#This Row],[Оплачено случаев]]/Таблица1[[#This Row],[План ДВН, чел.]]*100,1)","v":200}]
["Март","ДВН","МСЧ МВД",0,0,1,{"$f":"Таблица1[[#This Row],[Оплачено случаев]]-Таблица1[[#This Row],[План ДВН, чел.]]","v":-1},{"$f":"ROUND(Таблица1[[#This Row],[Оплачено случаев]]/Таблица1[[#This Row],[План ДВН, чел.]]*100,1)","v":0}]
["Март","ДВН","ЧУЗ \"Больница \"РЖД - Медицина\" ",1,1.78183,26,{"$f":"Таблица1[[#This Row],[Оплачено случаев]]-Таблица1[[#This Row],[План ДВН, чел.]]","v":-25},{"$f":"ROUND(Таблица1[[#This Row],[Оплачено случаев]]/Таблица1[[#This Row],[План ДВН, чел.]]*100,1)","v":3.8}]
["Март","ДВН","КБ № 8 ФМБА",397,807.07619,730,{"$f":"Таблица1[[#This Row],[Оплачено случаев]]-Таблица1[[#This Row],[План ДВН, чел.]]","v":-333},{"$f":"ROUND(Таблица1[[#This Row],[Оплачено случаев]]/Таблица1[[#This Row],[План ДВН, чел.]]*100,1)","v":54.4}]
["Март","ДВН","ЦРБ Бабынинского района",40,75.310210000000012,116,{"$f":"Таблица1[[#This Row],[Оплачено случаев]]-Таблица1[[#This Row],[План ДВН, чел.]]","v":-76},{"$f":"ROUND(Таблица1[[#This Row],[Оплачено случаев]]/Таблица1[[#This Row],[План ДВН, чел.]]*100,1)","v":34.5}]
["Март","ДВН","ЦРБ Боровского района",310,617.22262999999998,335,{"$f":"Таблица1[[#This Row],[Оплачено случаев]]-Таблица1[[#This Row],[План ДВН, чел.]]","v":-25},{"$f":"ROUND(Таблица1[[#This Row],[Оплачено случаев]]/Таблица1[[#This Row],[План ДВН, чел.]]*100,1)","v":92.5}]
["Март","ДВН","ЦРБ Жуковского района",47,94.864550000000008,82,{"$f":"Таблица1[[#This Row],[Оплачено случаев]]-Таблица1[[#This Row],[План ДВН, чел.]]","v":-35},{"$f":"ROUND(Таблица1[[#This Row],[Оплачено случаев]]/Таблица1[[#This Row],[План ДВН, чел.]]*100,1)","v":57.3}]
["Март","ДВН","ГП \"Город Кременки\"",27,60.783619999999999,28,{"$f":"Таблица1[[#This Row],[Оплачено случаев]]-Таблица1[[#This Row],[План ДВН, чел.]]","v":-1},{"$f":"ROUND(Таблица1[[#This Row],[Оплачено случаев]]/Таблица1[[#This Row],[План ДВН, чел.]]*100,1)","v":96.4}]
["Март","ДВН","ЦРБ Малоярославецкого района",153,305.52587,160,{"$f":"Таблица1[[#This Row],[Оплачено случаев]]-Таблица1[[#This Row],[План ДВН, чел.]]","v":-7},{"$f":"ROUND(Таблица1[[#This Row],[Оплачено случаев]]/Таблица1[[#This Row],[План ДВН, чел.]]*100,1)","v":95.6}]
["Март","ДВН","ЦРБ  Тарусского района",22,50.160849999999996,91,{"$f":"Таблица1[[#This Row],[Оплачено случаев]]-Таблица1[[#This Row],[План ДВН, чел.]]","v":-69},{"$f":"ROUND(Таблица1[[#This Row],[Оплачено случаев]]/Таблица1[[#This Row],[План ДВН, чел.]]*100,1)","v":24.2}]
["Апрель","ДВН","ЦМБ № 1",{"$f":"Y4","v":76},{"$f":"Z4","v":153.67827},{"$f":"AA4","v":139},{"$f":"Таблица1[[#This Row],[Оплачено случаев]]-Таблица1[[#This Row],[План ДВН, чел.]]","v":-63},{"$f":"ROUND(Таблица1[[#This Row],[Оплачено случаев]]/Таблица1[[#This Row],[План ДВН, чел.]]*100,1)","v":54.7}]
["Апрель","ДВН","ЦМБ № 2",120,235.76988,337,{"$f":"Таблица1[[#This Row],[Оплачено случаев]]-Таблица1[[#This Row],[План ДВН, чел.]]","v":-217},{"$f":"ROUND(Таблица1[[#This Row],[Оплачено случаев]]/Таблица1[[#This Row],[План ДВН, чел.]]*100,1)","v":35.6}]
["Апрель","ДВН","ЦМБ № 3",225,455.32580999999999,165,{"$f":"Таблица1[[#This Row],[Оплачено случаев]]-Таблица1[[#This Row],[План ДВН, чел.]]","v":60},{"$f":"ROUND(Таблица1[[#This Row],[Оплачено случаев]]/Таблица1[[#This Row],[План ДВН, чел.]]*100,1)","v":136.4}]
["Апрель","ДВН","ЦМБ № 4",81,163.85557,52,{"$f":"Таблица1[[#This Row],[Оплачено случаев]]-Таблица1[[#This Row],[План ДВН, чел.]]","v":29},{"$f":"ROUND(Таблица1[[#This Row],[Оплачено случаев]]/Таблица1[[#This Row],[План ДВН, чел.]]*100,1)","v":155.80000000000001}]
["Апрель","ДВН","ЦМБ № 5",159,335.49326000000002,204,{"$f":"Таблица1[[#This Row],[Оплачено случаев]]-Таблица1[[#This Row],[План ДВН, чел.]]","v":-45},{"$f":"ROUND(Таблица1[[#This Row],[Оплачено случаев]]/Таблица1[[#This Row],[План ДВН, чел.]]*100,1)","v":77.900000000000006}]
["Апрель","ДВН","ЦМБ № 6",224,436.89094,343,{"$f":"Таблица1[[#This Row],[Оплачено случаев]]-Таблица1[[#This Row],[План ДВН, чел.]]","v":-119},{"$f":"ROUND(Таблица1[[#This Row],[Оплачено случаев]]/Таблица1[[#This Row],[План ДВН, чел.]]*100,1)","v":65.3}]
["Апрель","ДВН","КГБ № 5",778,1541.5336000000002,1005,{"$f":"Таблица1[[#This Row],[Оплачено случаев]]-Таблица1[[#This Row],[План ДВН, чел.]]","v":-227},{"$f":"ROUND(Таблица1[[#This Row],[Оплачено случаев]]/Таблица1[[#This Row],[План ДВН, чел.]]*100,1)","v":77.400000000000006}]
["Апрель","ДВН","КГКБ № 4",365,746.12069999999994,430,{"$f":"Таблица1[[#This Row],[Оплачено случаев]]-Таблица1[[#This Row],[План ДВН, чел.]]","v":-65},{"$f":"ROUND(Таблица1[[#This Row],[Оплачено случаев]]/Таблица1[[#This Row],[План ДВН, чел.]]*100,1)","v":84.9}]
["Апрель","ДВН","Городская поликлиника",446,936.89820999999995,562,{"$f":"Таблица1[[#This Row],[Оплачено случаев]]-Таблица1[[#This Row],[План ДВН, чел.]]","v":-116},{"$f":"ROUND(Таблица1[[#This Row],[Оплачено случаев]]/Таблица1[[#This Row],[План ДВН, чел.]]*100,1)","v":79.400000000000006}]
["Апрель","ДВН","МСЧ № 1 г. Калуги",107,216.0341,55,{"$f":"Таблица1[[#This Row],[Оплачено случаев]]-Таблица1[[#This Row],[План ДВН, чел.]]","v":52},{"$f":"ROUND(Таблица1[[#This Row],[Оплачено случаев]]/Таблица1[[#This Row],[План ДВН, чел.]]*100,1)","v":194.5}]
["Апрель","ДВН","МСЧ № 2 г. Калуги",2,3.7116799999999999,1,{"$f":"Таблица1[[#This Row],[Оплачено случаев]]-Таблица1[[#This Row],[План ДВН, чел.]]","v":1},{"$f":"ROUND(Таблица1[[#This Row],[Оплачено случаев]]/Таблица1[[#This Row],[План ДВН, чел.]]*100,1)","v":200}]
["Апрель","ДВН","МСЧ МВД",0,0,1,{"$f":"Таблица1[[#This Row],[Оплачено случаев]]-Таблица1[[#This Row],[План ДВН, чел.]]","v":-1},{"$f":"ROUND(Таблица1[[#This Row],[Оплачено случаев]]/Таблица1[[#This Row],[План ДВН, чел.]]*100,1)","v":0}]
["Апрель","ДВН","ЧУЗ \"Больница \"РЖД - Медицина\" ",3,5.4925500000000005,26,{"$f":"Таблица1[[#This Row],[Оплачено случаев]]-Таблица1[[#This Row],[План ДВН, чел.]]","v":-23},{"$f":"ROUND(Таблица1[[#This Row],[Оплачено случаев]]/Таблица1[[#This Row],[План ДВН, чел.]]*100,1)","v":11.5}]
["Апрель","ДВН","КБ № 8 ФМБА",545,1109.17696,730,{"$f":"Таблица1[[#This Row],[Оплачено случаев]]-Таблица1[[#This Row],[План ДВН, чел.]]","v":-185},{"$f":"ROUND(Таблица1[[#This Row],[Оплачено случаев]]/Таблица1[[#This Row],[План ДВН, чел.]]*100,1)","v":74.7}]
["Апрель","ДВН","ЦРБ Бабынинского района",50,96.773130000000009,116,{"$f":"Таблица1[[#This Row],[Оплачено случаев]]-Таблица1[[#This Row],[План ДВН, чел.]]","v":-66},{"$f":"ROUND(Таблица1[[#This Row],[Оплачено случаев]]/Таблица1[[#This Row],[План ДВН, чел.]]*100,1)","v":43.1}]
["Апрель","ДВН","ЦРБ Боровского района",73,155.01578000000001,335,{"$f":"Таблица1[[#This Row],[Оплачено случаев]]-Таблица1[[#This Row],[План ДВН, чел.]]","v":-262},{"$f":"ROUND(Таблица1[[#This Row],[Оплачено случаев]]/Таблица1[[#This Row],[План ДВН, чел.]]*100,1)","v":21.8}]
["Апрель","ДВН","ЦРБ Жуковского района",88,193.18554999999998,82,{"$f":"Таблица1[[#This Row],[Оплачено случаев]]-Таблица1[[#This Row],[План ДВН, чел.]]","v":6},{"$f":"ROUND(Таблица1[[#This Row],[Оплачено случаев]]/Таблица1[[#This Row],[План ДВН, чел.]]*100,1)","v":107.3}]
["Апрель","ДВН","ГП \"Город Кременки\"",22,48.896680000000003,28,{"$f":"Таблица1[[#This Row],[Оплачено случаев]]-Таблица1[[#This Row],[План ДВН, чел.]]","v":-6},{"$f":"ROUND(Таблица1[[#This Row],[Оплачено случаев]]/Таблица1[[#This Row],[План ДВН, чел.]]*100,1)","v":78.599999999999994}]
["Апрель","ДВН","ЦРБ Малоярославецкого района",166,333.04041999999998,160,{"$f":"Таблица1[[#This Row],[Оплачено случаев]]-Таблица1[[#This Row],[План ДВН, чел.]]","v":6},{"$f":"ROUND(Таблица1[[#This Row],[Оплачено случаев]]/Таблица1[[#This Row],[План ДВН, чел.]]*100,1)","v":103.8}]
["Апрель","ДВН","ЦРБ  Тарусского района",73,152.18804,98,{"$f":"Таблица1[[#This Row],[Оплачено случаев]]-Таблица1[[#This Row],[План ДВН, чел.]]","v":-25},{"$f":"ROUND(Таблица1[[#This Row],[Оплачено случаев]]/Таблица1[[#This Row],[План ДВН, чел.]]*100,1)","v":74.5}]
["Май","ДВН","ЦМБ № 1",{"$f":"AD4","v":116},{"$f":"AE4","v":229.46626000000001},{"$f":"AF4","v":131},{"$f":"Таблица1[[#This Row],[Оплачено случаев]]-Таблица1[[#This Row],[План ДВН, чел.]]","v":-15},{"$f":"ROUND(Таблица1[[#This Row],[Оплачено случаев]]/Таблица1[[#This Row],[План ДВН, чел.]]*100,1)","v":88.5}]
["Май","ДВН","ЦМБ № 2",162,333.87091999999996,343,{"$f":"Таблица1[[#This Row],[Оплачено случаев]]-Таблица1[[#This Row],[План ДВН, чел.]]","v":-181},{"$f":"ROUND(Таблица1[[#This Row],[Оплачено случаев]]/Таблица1[[#This Row],[План ДВН, чел.]]*100,1)","v":47.2}]
["Май","ДВН","ЦМБ № 3",152,309.94817999999998,165,{"$f":"Таблица1[[#This Row],[Оплачено случаев]]-Таблица1[[#This Row],[План ДВН, чел.]]","v":-13},{"$f":"ROUND(Таблица1[[#This Row],[Оплачено случаев]]/Таблица1[[#This Row],[План ДВН, чел.]]*100,1)","v":92.1}]
["Май","ДВН","ЦМБ № 4",46,96.041300000000007,52,{"$f":"Таблица1[[#This Row],[Оплачено случаев]]-Таблица1[[#This Row],[План ДВН, чел.]]","v":-6},{"$f":"ROUND(Таблица1[[#This Row],[Оплачено случаев]]/Таблица1[[#This Row],[План ДВН, чел.]]*100,1)","v":88.5}]
["Май","ДВН","ЦМБ № 5",143,288.03886999999997,172,{"$f":"Таблица1[[#This Row],[Оплачено случаев]]-Таблица1[[#This Row],[План ДВН, чел.]]","v":-29},{"$f":"ROUND(Таблица1[[#This Row],[Оплачено случаев]]/Таблица1[[#This Row],[План ДВН, чел.]]*100,1)","v":83.1}]
["Май","ДВН","ЦМБ № 6",251,504.11086,243,{"$f":"Таблица1[[#This Row],[Оплачено случаев]]-Таблица1[[#This Row],[План ДВН, чел.]]","v":8},{"$f":"ROUND(Таблица1[[#This Row],[Оплачено случаев]]/Таблица1[[#This Row],[План ДВН, чел.]]*100,1)","v":103.3}]
["Май","ДВН","КГБ № 5",1050,2154.8404999999998,1005,{"$f":"Таблица1[[#This Row],[Оплачено случаев]]-Таблица1[[#This Row],[План ДВН, чел.]]","v":45},{"$f":"ROUND(Таблица1[[#This Row],[Оплачено случаев]]/Таблица1[[#This Row],[План ДВН, чел.]]*100,1)","v":104.5}]
["Май","ДВН","КГКБ № 4",329,688.10793000000001,430,{"$f":"Таблица1[[#This Row],[Оплачено случаев]]-Таблица1[[#This Row],[План ДВН, чел.]]","v":-101},{"$f":"ROUND(Таблица1[[#This Row],[Оплачено случаев]]/Таблица1[[#This Row],[План ДВН, чел.]]*100,1)","v":76.5}]
["Май","ДВН","Городская поликлиника",426,919.28994999999998,562,{"$f":"Таблица1[[#This Row],[Оплачено случаев]]-Таблица1[[#This Row],[План ДВН, чел.]]","v":-136},{"$f":"ROUND(Таблица1[[#This Row],[Оплачено случаев]]/Таблица1[[#This Row],[План ДВН, чел.]]*100,1)","v":75.8}]
["Май","ДВН","МСЧ № 1 г. Калуги",259,475.48860999999999,55,{"$f":"Таблица1[[#This Row],[Оплачено случаев]]-Таблица1[[#This Row],[План ДВН, чел.]]","v":204},{"$f":"ROUND(Таблица1[[#This Row],[Оплачено случаев]]/Таблица1[[#This Row],[План ДВН, чел.]]*100,1)","v":470.9}]
["Май","ДВН","МСЧ № 2 г. Калуги",0,0,1,{"$f":"Таблица1[[#This Row],[Оплачено случаев]]-Таблица1[[#This Row],[План ДВН, чел.]]","v":-1},{"$f":"ROUND(Таблица1[[#This Row],[Оплачено случаев]]/Таблица1[[#This Row],[План ДВН, чел.]]*100,1)","v":0}]
["Май","ДВН","МСЧ МВД",0,0,1,{"$f":"Таблица1[[#This Row],[Оплачено случаев]]-Таблица1[[#This Row],[План ДВН, чел.]]","v":-1},{"$f":"ROUND(Таблица1[[#This Row],[Оплачено случаев]]/Таблица1[[#This Row],[План ДВН, чел.]]*100,1)","v":0}]
["Май","ДВН","ЧУЗ \"Больница \"РЖД - Медицина\" ",16,26.156119999999998,26,{"$f":"Таблица1[[#This Row],[Оплачено случаев]]-Таблица1[[#This Row],[План ДВН, чел.]]","v":-10},{"$f":"ROUND(Таблица1[[#This Row],[Оплачено случаев]]/Таблица1[[#This Row],[План ДВН, чел.]]*100,1)","v":61.5}]
["Май","ДВН","КБ № 8 ФМБА",480,1007.87953,730,{"$f":"Таблица1[[#This Row],[Оплачено случаев]]-Таблица1[[#This Row],[План ДВН, чел.]]","v":-250},{"$f":"ROUND(Таблица1[[#This Row],[Оплачено случаев]]/Таблица1[[#This Row],[План ДВН, чел.]]*100,1)","v":65.8}]
["Май","ДВН","ЦРБ Бабынинского района",78,156.03699,116,{"$f":"Таблица1[[#This Row],[Оплачено случаев]]-Таблица1[[#This Row],[План ДВН, чел.]]","v":-38},{"$f":"ROUND(Таблица1[[#This Row],[Оплачено случаев]]/Таблица1[[#This Row],[План ДВН, чел.]]*100,1)","v":67.2}]
["Май","ДВН","ЦРБ Боровского района",381,776.10560999999996,12,{"$f":"Таблица1[[#This Row],[Оплачено случаев]]-Таблица1[[#This Row],[План ДВН, чел.]]","v":369},{"$f":"ROUND(Таблица1[[#This Row],[Оплачено случаев]]/Таблица1[[#This Row],[План ДВН, чел.]]*100,1)","v":3175}]
["Май","ДВН","ЦРБ Жуковского района",62,129.07748000000001,82,{"$f":"Таблица1[[#This Row],[Оплачено случаев]]-Таблица1[[#This Row],[План ДВН, чел.]]","v":-20},{"$f":"ROUND(Таблица1[[#This Row],[Оплачено случаев]]/Таблица1[[#This Row],[План ДВН, чел.]]*100,1)","v":75.599999999999994}]
["Май","ДВН","ГП \"Город Кременки\"",34,81.72153999999999,28,{"$f":"Таблица1[[#This Row],[Оплачено случаев]]-Таблица1[[#This Row],[План ДВН, чел.]]","v":6},{"$f":"ROUND(Таблица1[[#This Row],[Оплачено случаев]]/Таблица1[[#This Row],[План ДВН, чел.]]*100,1)","v":121.4}]
["Май","ДВН","ЦРБ Малоярославецкого района",169,341.35121999999996,160,{"$f":"Таблица1[[#This Row],[Оплачено случаев]]-Таблица1[[#This Row],[План ДВН, чел.]]","v":9},{"$f":"ROUND(Таблица1[[#This Row],[Оплачено случаев]]/Таблица1[[#This Row],[План ДВН, чел.]]*100,1)","v":105.6}]
["Май","ДВН","ЦРБ  Тарусского района",42,90.240089999999995,93,{"$f":"Таблица1[[#This Row],[Оплачено случаев]]-Таблица1[[#This Row],[План ДВН, чел.]]","v":-51},{"$f":"ROUND(Таблица1[[#This Row],[Оплачено случаев]]/Таблица1[[#This Row],[План ДВН, чел.]]*100,1)","v":45.2}]
["Июнь","ДВН","ЦМБ № 1",{"$f":"AI4","v":130},{"$f":"AJ4","v":264.06440000000003},{"$f":"AK4","v":135},{"$f":"Таблица1[[#This Row],[Оплачено случаев]]-Таблица1[[#This Row],[План ДВН, чел.]]","v":-5},{"$f":"ROUND(Таблица1[[#This Row],[Оплачено случаев]]/Таблица1[[#This Row],[План ДВН, чел.]]*100,1)","v":96.3}]
["Июнь","ДВН","ЦМБ № 2",313,633.77503000000002,342,{"$f":"Таблица1[[#This Row],[Оплачено случаев]]-Таблица1[[#This Row],[План ДВН, чел.]]","v":-29},{"$f":"ROUND(Таблица1[[#This Row],[Оплачено случаев]]/Таблица1[[#This Row],[План ДВН, чел.]]*100,1)","v":91.5}]
["Июнь","ДВН","ЦМБ № 3",118,234.01934,165,{"$f":"Таблица1[[#This Row],[Оплачено случаев]]-Таблица1[[#This Row],[План ДВН, чел.]]","v":-47},{"$f":"ROUND(Таблица1[[#This Row],[Оплачено случаев]]/Таблица1[[#This Row],[План ДВН, чел.]]*100,1)","v":71.5}]
["Июнь","ДВН","ЦМБ № 4",13,25.902540000000002,44,{"$f":"Таблица1[[#This Row],[Оплачено случаев]]-Таблица1[[#This Row],[План ДВН, чел.]]","v":-31},{"$f":"ROUND(Таблица1[[#This Row],[Оплачено случаев]]/Таблица1[[#This Row],[План ДВН, чел.]]*100,1)","v":29.5}]
["Июнь","ДВН","ЦМБ № 5",234,497.66704999999996,221,{"$f":"Таблица1[[#This Row],[Оплачено случаев]]-Таблица1[[#This Row],[План ДВН, чел.]]","v":13},{"$f":"ROUND(Таблица1[[#This Row],[Оплачено случаев]]/Таблица1[[#This Row],[План ДВН, чел.]]*100,1)","v":105.9}]
["Июнь","ДВН","ЦМБ № 6",216,443.51659000000001,243,{"$f":"Таблица1[[#This Row],[Оплачено случаев]]-Таблица1[[#This Row],[План ДВН, чел.]]","v":-27},{"$f":"ROUND(Таблица1[[#This Row],[Оплачено случаев]]/Таблица1[[#This Row],[План ДВН, чел.]]*100,1)","v":88.9}]
["Июнь","ДВН","КГБ № 5",1035,2065.94461,1005,{"$f":"Таблица1[[#This Row],[Оплачено случаев]]-Таблица1[[#This Row],[План ДВН, чел.]]","v":30},{"$f":"ROUND(Таблица1[[#This Row],[Оплачено случаев]]/Таблица1[[#This Row],[План ДВН, чел.]]*100,1)","v":103}]
["Июнь","ДВН","КГКБ № 4",275,561.40886999999998,430,{"$f":"Таблица1[[#This Row],[Оплачено случаев]]-Таблица1[[#This Row],[План ДВН, чел.]]","v":-155},{"$f":"ROUND(Таблица1[[#This Row],[Оплачено случаев]]/Таблица1[[#This Row],[План ДВН, чел.]]*100,1)","v":64}]
["Июнь","ДВН","Городская поликлиника",373,791.72757999999999,562,{"$f":"Таблица1[[#This Row],[Оплачено случаев]]-Таблица1[[#This Row],[План ДВН, чел.]]","v":-189},{"$f":"ROUND(Таблица1[[#This Row],[Оплачено случаев]]/Таблица1[[#This Row],[План ДВН, чел.]]*100,1)","v":66.400000000000006}]
["Июнь","ДВН","МСЧ № 1 г. Калуги",54,99.476839999999996,55,{"$f":"Таблица1[[#This Row],[Оплачено случаев]]-Таблица1[[#This Row],[План ДВН, чел.]]","v":-1},{"$f":"ROUND(Таблица1[[#This Row],[Оплачено случаев]]/Таблица1[[#This Row],[План ДВН, чел.]]*100,1)","v":98.2}]
["Июнь","ДВН","МСЧ № 2 г. Калуги",0,0,1,{"$f":"Таблица1[[#This Row],[Оплачено случаев]]-Таблица1[[#This Row],[План ДВН, чел.]]","v":-1},{"$f":"ROUND(Таблица1[[#This Row],[Оплачено случаев]]/Таблица1[[#This Row],[План ДВН, чел.]]*100,1)","v":0}]
["Июнь","ДВН","МСЧ МВД",0,0,1,{"$f":"Таблица1[[#This Row],[Оплачено случаев]]-Таблица1[[#This Row],[План ДВН, чел.]]","v":-1},{"$f":"ROUND(Таблица1[[#This Row],[Оплачено случаев]]/Таблица1[[#This Row],[План ДВН, чел.]]*100,1)","v":0}]
["Июнь","ДВН","ЧУЗ \"Больница \"РЖД - Медицина\" ",97,177.97857000000002,26,{"$f":"Таблица1[[#This Row],[Оплачено случаев]]-Таблица1[[#This Row],[План ДВН, чел.]]","v":71},{"$f":"ROUND(Таблица1[[#This Row],[Оплачено случаев]]/Таблица1[[#This Row],[План ДВН, чел.]]*100,1)","v":373.1}]
["Июнь","ДВН","КБ № 8 ФМБА",819,1608.0929199999998,730,{"$f":"Таблица1[[#This Row],[Оплачено случаев]]-Таблица1[[#This Row],[План ДВН, чел.]]","v":89},{"$f":"ROUND(Таблица1[[#This Row],[Оплачено случаев]]/Таблица1[[#This Row],[План ДВН, чел.]]*100,1)","v":112.2}]
["Июнь","ДВН","ЦРБ Бабынинского района",9,18.543320000000001,116,{"$f":"Таблица1[[#This Row],[Оплачено случаев]]-Таблица1[[#This Row],[План ДВН, чел.]]","v":-107},{"$f":"ROUND(Таблица1[[#This Row],[Оплачено случаев]]/Таблица1[[#This Row],[План ДВН, чел.]]*100,1)","v":7.8}]
["Июнь","ДВН","ЦРБ Боровского района",183,373.86968000000002,325,{"$f":"Таблица1[[#This Row],[Оплачено случаев]]-Таблица1[[#This Row],[План ДВН, чел.]]","v":-142},{"$f":"ROUND(Таблица1[[#This Row],[Оплачено случаев]]/Таблица1[[#This Row],[План ДВН, чел.]]*100,1)","v":56.3}]
["Июнь","ДВН","ЦРБ Жуковского района",40,81.607369999999989,82,{"$f":"Таблица1[[#This Row],[Оплачено случаев]]-Таблица1[[#This Row],[План ДВН, чел.]]","v":-42},{"$f":"ROUND(Таблица1[[#This Row],[Оплачено случаев]]/Таблица1[[#This Row],[План ДВН, чел.]]*100,1)","v":48.8}]
["Июнь","ДВН","ГП \"Город Кременки\"",32,75.36609,28,{"$f":"Таблица1[[#This Row],[Оплачено случаев]]-Таблица1[[#This Row],[План ДВН, чел.]]","v":4},{"$f":"ROUND(Таблица1[[#This Row],[Оплачено случаев]]/Таблица1[[#This Row],[План ДВН, чел.]]*100,1)","v":114.3}]
["Июнь","ДВН","ЦРБ Малоярославецкого района",148,298.79991999999999,160,{"$f":"Таблица1[[#This Row],[Оплачено случаев]]-Таблица1[[#This Row],[План ДВН, чел.]]","v":-12},{"$f":"ROUND(Таблица1[[#This Row],[Оплачено случаев]]/Таблица1[[#This Row],[План ДВН, чел.]]*100,1)","v":92.5}]
["Июнь","ДВН","ЦРБ  Тарусского района",133,289.61513000000002,78,{"$f":"Таблица1[[#This Row],[Оплачено случаев]]-Таблица1[[#This Row],[План ДВН, чел.]]","v":55},{"$f":"ROUND(Таблица1[[#This Row],[Оплачено случаев]]/Таблица1[[#This Row],[План ДВН, чел.]]*100,1)","v":170.5}]
["Июль","ДВН","ЦМБ № 1",{"$f":"AN4","v":122},{"$f":"AO4","v":254.61507},{"$f":"AP4","v":139},{"$f":"Таблица1[[#This Row],[Оплачено случаев]]-Таблица1[[#This Row],[План ДВН, чел.]]","v":-17},{"$f":"ROUND(Таблица1[[#This Row],[Оплачено случаев]]/Таблица1[[#This Row],[План ДВН, чел.]]*100,1)","v":87.8}]
["Июль","ДВН","ЦМБ № 2",287,619.70861000000002,350,{"$f":"Таблица1[[#This Row],[Оплачено случаев]]-Таблица1[[#This Row],[План ДВН, чел.]]","v":-63},{"$f":"ROUND(Таблица1[[#This Row],[Оплачено случаев]]/Таблица1[[#This Row],[План ДВН, чел.]]*100,1)","v":82}]
["Июль","ДВН","ЦМБ № 3",127,251.48251000000002,165,{"$f":"Таблица1[[#This Row],[Оплачено случаев]]-Таблица1[[#This Row],[План ДВН, чел.]]","v":-38},{"$f":"ROUND(Таблица1[[#This Row],[Оплачено случаев]]/Таблица1[[#This Row],[План ДВН, чел.]]*100,1)","v":77}]
["Июль","ДВН","ЦМБ № 4",70,141.85526999999999,42,{"$f":"Таблица1[[#This Row],[Оплачено случаев]]-Таблица1[[#This Row],[План ДВН, чел.]]","v":28},{"$f":"ROUND(Таблица1[[#This Row],[Оплачено случаев]]/Таблица1[[#This Row],[План ДВН, чел.]]*100,1)","v":166.7}]
["Июль","ДВН","ЦМБ № 5",197,411.86808000000002,204,{"$f":"Таблица1[[#This Row],[Оплачено случаев]]-Таблица1[[#This Row],[План ДВН, чел.]]","v":-7},{"$f":"ROUND(Таблица1[[#This Row],[Оплачено случаев]]/Таблица1[[#This Row],[План ДВН, чел.]]*100,1)","v":96.6}]
["Июль","ДВН","ЦМБ № 6",161,332.10790000000003,343,{"$f":"Таблица1[[#This Row],[Оплачено случаев]]-Таблица1[[#This Row],[План ДВН, чел.]]","v":-182},{"$f":"ROUND(Таблица1[[#This Row],[Оплачено случаев]]/Таблица1[[#This Row],[План ДВН, чел.]]*100,1)","v":46.9}]
["Июль","ДВН","КГБ № 5",835,1658.9912400000001,1005,{"$f":"Таблица1[[#This Row],[Оплачено случаев]]-Таблица1[[#This Row],[План ДВН, чел.]]","v":-170},{"$f":"ROUND(Таблица1[[#This Row],[Оплачено случаев]]/Таблица1[[#This Row],[План ДВН, чел.]]*100,1)","v":83.1}]
["Июль","ДВН","КГКБ № 4",427,876.93101999999999,430,{"$f":"Таблица1[[#This Row],[Оплачено случаев]]-Таблица1[[#This Row],[План ДВН, чел.]]","v":-3},{"$f":"ROUND(Таблица1[[#This Row],[Оплачено случаев]]/Таблица1[[#This Row],[План ДВН, чел.]]*100,1)","v":99.3}]
["Июль","ДВН","Городская поликлиника",427,912.37049000000002,562,{"$f":"Таблица1[[#This Row],[Оплачено случаев]]-Таблица1[[#This Row],[План ДВН, чел.]]","v":-135},{"$f":"ROUND(Таблица1[[#This Row],[Оплачено случаев]]/Таблица1[[#This Row],[План ДВН, чел.]]*100,1)","v":76}]
["Июль","ДВН","МСЧ № 1 г. Калуги",28,50.488050000000001,55,{"$f":"Таблица1[[#This Row],[Оплачено случаев]]-Таблица1[[#This Row],[План ДВН, чел.]]","v":-27},{"$f":"ROUND(Таблица1[[#This Row],[Оплачено случаев]]/Таблица1[[#This Row],[План ДВН, чел.]]*100,1)","v":50.9}]
["Июль","ДВН","МСЧ № 2 г. Калуги",0,0,1,{"$f":"Таблица1[[#This Row],[Оплачено случаев]]-Таблица1[[#This Row],[План ДВН, чел.]]","v":-1},{"$f":"ROUND(Таблица1[[#This Row],[Оплачено случаев]]/Таблица1[[#This Row],[План ДВН, чел.]]*100,1)","v":0}]
["Июль","ДВН","МСЧ МВД",0,0,1,{"$f":"Таблица1[[#This Row],[Оплачено случаев]]-Таблица1[[#This Row],[План ДВН, чел.]]","v":-1},{"$f":"ROUND(Таблица1[[#This Row],[Оплачено случаев]]/Таблица1[[#This Row],[План ДВН, чел.]]*100,1)","v":0}]
["Июль","ДВН","ЧУЗ \"Больница \"РЖД - Медицина\" ",12,23.285029999999999,26,{"$f":"Таблица1[[#This Row],[Оплачено случаев]]-Таблица1[[#This Row],[План ДВН, чел.]]","v":-14},{"$f":"ROUND(Таблица1[[#This Row],[Оплачено случаев]]/Таблица1[[#This Row],[План ДВН, чел.]]*100,1)","v":46.2}]
["Июль","ДВН","КБ № 8 ФМБА",997,1942.34752,729,{"$f":"Таблица1[[#This Row],[Оплачено случаев]]-Таблица1[[#This Row],[План ДВН, чел.]]","v":268},{"$f":"ROUND(Таблица1[[#This Row],[Оплачено случаев]]/Таблица1[[#This Row],[План ДВН, чел.]]*100,1)","v":136.80000000000001}]
["Июль","ДВН","ЦРБ Бабынинского района",148,305.33681000000001,116,{"$f":"Таблица1[[#This Row],[Оплачено случаев]]-Таблица1[[#This Row],[План ДВН, чел.]]","v":32},{"$f":"ROUND(Таблица1[[#This Row],[Оплачено случаев]]/Таблица1[[#This Row],[План ДВН, чел.]]*100,1)","v":127.6}]
["Июль","ДВН","ЦРБ Боровского района",160,353.65913,12,{"$f":"Таблица1[[#This Row],[Оплачено случаев]]-Таблица1[[#This Row],[План ДВН, чел.]]","v":148},{"$f":"ROUND(Таблица1[[#This Row],[Оплачено случаев]]/Таблица1[[#This Row],[План ДВН, чел.]]*100,1)","v":1333.3}]
["Июль","ДВН","ЦРБ Жуковского района",76,168.65376000000001,82,{"$f":"Таблица1[[#This Row],[Оплачено случаев]]-Таблица1[[#This Row],[План ДВН, чел.]]","v":-6},{"$f":"ROUND(Таблица1[[#This Row],[Оплачено случаев]]/Таблица1[[#This Row],[План ДВН, чел.]]*100,1)","v":92.7}]
["Июль","ДВН","ГП \"Город Кременки\"",37,85.865729999999999,28,{"$f":"Таблица1[[#This Row],[Оплачено случаев]]-Таблица1[[#This Row],[План ДВН, чел.]]","v":9},{"$f":"ROUND(Таблица1[[#This Row],[Оплачено случаев]]/Таблица1[[#This Row],[План ДВН, чел.]]*100,1)","v":132.1}]
["Июль","ДВН","ЦРБ Малоярославецкого района",88,175.28644,160,{"$f":"Таблица1[[#This Row],[Оплачено случаев]]-Таблица1[[#This Row],[План ДВН, чел.]]","v":-72},{"$f":"ROUND(Таблица1[[#This Row],[Оплачено случаев]]/Таблица1[[#This Row],[План ДВН, чел.]]*100,1)","v":55}]
["Июль","ДВН","ЦРБ  Тарусского района",41,93.202060000000003,81,{"$f":"Таблица1[[#This Row],[Оплачено случаев]]-Таблица1[[#This Row],[План ДВН, чел.]]","v":-40},{"$f":"ROUND(Таблица1[[#This Row],[Оплачено случаев]]/Таблица1[[#This Row],[План ДВН, чел.]]*100,1)","v":50.6}]
["Август","ДВН","ЦМБ № 1",{"$f":"AS4","v":139},{"$f":"AT4","v":290.62702000000002},{"$f":"AU4","v":157},{"$f":"Таблица1[[#This Row],[Оплачено случаев]]-Таблица1[[#This Row],[План ДВН, чел.]]","v":-18},{"$f":"ROUND(Таблица1[[#This Row],[Оплачено случаев]]/Таблица1[[#This Row],[План ДВН, чел.]]*100,1)","v":88.5}]
["Август","ДВН","ЦМБ № 2",134,273.43761000000001,200,{"$f":"Таблица1[[#This Row],[Оплачено случаев]]-Таблица1[[#This Row],[План ДВН, чел.]]","v":-66},{"$f":"ROUND(Таблица1[[#This Row],[Оплачено случаев]]/Таблица1[[#This Row],[План ДВН, чел.]]*100,1)","v":67}]
["Август","ДВН","ЦМБ № 3",123,245.04076999999998,165,{"$f":"Таблица1[[#This Row],[Оплачено случаев]]-Таблица1[[#This Row],[План ДВН, чел.]]","v":-42},{"$f":"ROUND(Таблица1[[#This Row],[Оплачено случаев]]/Таблица1[[#This Row],[План ДВН, чел.]]*100,1)","v":74.5}]
["Август","ДВН","ЦМБ № 4",12,26.936880000000002,42,{"$f":"Таблица1[[#This Row],[Оплачено случаев]]-Таблица1[[#This Row],[План ДВН, чел.]]","v":-30},{"$f":"ROUND(Таблица1[[#This Row],[Оплачено случаев]]/Таблица1[[#This Row],[План ДВН, чел.]]*100,1)","v":28.6}]
["Август","ДВН","ЦМБ № 5",110,232.16806,186,{"$f":"Таблица1[[#This Row],[Оплачено случаев]]-Таблица1[[#This Row],[План ДВН, чел.]]","v":-76},{"$f":"ROUND(Таблица1[[#This Row],[Оплачено случаев]]/Таблица1[[#This Row],[План ДВН, чел.]]*100,1)","v":59.1}]
["Август","ДВН","ЦМБ № 6",163,323.87378000000001,160,{"$f":"Таблица1[[#This Row],[Оплачено случаев]]-Таблица1[[#This Row],[План ДВН, чел.]]","v":3},{"$f":"ROUND(Таблица1[[#This Row],[Оплачено случаев]]/Таблица1[[#This Row],[План ДВН, чел.]]*100,1)","v":101.9}]
["Август","ДВН","КГБ № 5",797,1602.89023,1288,{"$f":"Таблица1[[#This Row],[Оплачено случаев]]-Таблица1[[#This Row],[План ДВН, чел.]]","v":-491},{"$f":"ROUND(Таблица1[[#This Row],[Оплачено случаев]]/Таблица1[[#This Row],[План ДВН, чел.]]*100,1)","v":61.9}]
["Август","ДВН","КГКБ № 4",573,1179.79943,430,{"$f":"Таблица1[[#This Row],[Оплачено случаев]]-Таблица1[[#This Row],[План ДВН, чел.]]","v":143},{"$f":"ROUND(Таблица1[[#This Row],[Оплачено случаев]]/Таблица1[[#This Row],[План ДВН, чел.]]*100,1)","v":133.30000000000001}]
["Август","ДВН","Городская поликлиника",288,608.99057999999991,323,{"$f":"Таблица1[[#This Row],[Оплачено случаев]]-Таблица1[[#This Row],[План ДВН, чел.]]","v":-35},{"$f":"ROUND(Таблица1[[#This Row],[Оплачено случаев]]/Таблица1[[#This Row],[План ДВН, чел.]]*100,1)","v":89.2}]
["Август","ДВН","МСЧ № 1 г. Калуги",0,0,55,{"$f":"Таблица1[[#This Row],[Оплачено случаев]]-Таблица1[[#This Row],[План ДВН, чел.]]","v":-55},{"$f":"ROUND(Таблица1[[#This Row],[Оплачено случаев]]/Таблица1[[#This Row],[План ДВН, чел.]]*100,1)","v":0}]
["Август","ДВН","МСЧ № 2 г. Калуги",0,0,1,{"$f":"Таблица1[[#This Row],[Оплачено случаев]]-Таблица1[[#This Row],[План ДВН, чел.]]","v":-1},{"$f":"ROUND(Таблица1[[#This Row],[Оплачено случаев]]/Таблица1[[#This Row],[План ДВН, чел.]]*100,1)","v":0}]
["Август","ДВН","МСЧ МВД",0,0,1,{"$f":"Таблица1[[#This Row],[Оплачено случаев]]-Таблица1[[#This Row],[План ДВН, чел.]]","v":-1},{"$f":"ROUND(Таблица1[[#This Row],[Оплачено случаев]]/Таблица1[[#This Row],[План ДВН, чел.]]*100,1)","v":0}]
["Август","ДВН","ЧУЗ \"Больница \"РЖД - Медицина\" ",16,33.349809999999998,26,{"$f":"Таблица1[[#This Row],[Оплачено случаев]]-Таблица1[[#This Row],[План ДВН, чел.]]","v":-10},{"$f":"ROUND(Таблица1[[#This Row],[Оплачено случаев]]/Таблица1[[#This Row],[План ДВН, чел.]]*100,1)","v":61.5}]
["Август","ДВН","КБ № 8 ФМБА",915,1830.4300600000001,729,{"$f":"Таблица1[[#This Row],[Оплачено случаев]]-Таблица1[[#This Row],[План ДВН, чел.]]","v":186},{"$f":"ROUND(Таблица1[[#This Row],[Оплачено случаев]]/Таблица1[[#This Row],[План ДВН, чел.]]*100,1)","v":125.5}]
["Август","ДВН","ЦРБ Бабынинского района",307,639.36869999999999,62,{"$f":"Таблица1[[#This Row],[Оплачено случаев]]-Таблица1[[#This Row],[План ДВН, чел.]]","v":245},{"$f":"ROUND(Таблица1[[#This Row],[Оплачено случаев]]/Таблица1[[#This Row],[План ДВН, чел.]]*100,1)","v":495.2}]
["Август","ДВН","ЦРБ Боровского района",144,288.85565000000003,12,{"$f":"Таблица1[[#This Row],[Оплачено случаев]]-Таблица1[[#This Row],[План ДВН, чел.]]","v":132},{"$f":"ROUND(Таблица1[[#This Row],[Оплачено случаев]]/Таблица1[[#This Row],[План ДВН, чел.]]*100,1)","v":1200}]
["Август","ДВН","ЦРБ Жуковского района",68,147.15861999999998,82,{"$f":"Таблица1[[#This Row],[Оплачено случаев]]-Таблица1[[#This Row],[План ДВН, чел.]]","v":-14},{"$f":"ROUND(Таблица1[[#This Row],[Оплачено случаев]]/Таблица1[[#This Row],[План ДВН, чел.]]*100,1)","v":82.9}]
["Август","ДВН","ГП \"Город Кременки\"",29,63.931050000000006,28,{"$f":"Таблица1[[#This Row],[Оплачено случаев]]-Таблица1[[#This Row],[План ДВН, чел.]]","v":1},{"$f":"ROUND(Таблица1[[#This Row],[Оплачено случаев]]/Таблица1[[#This Row],[План ДВН, чел.]]*100,1)","v":103.6}]
["Август","ДВН","ЦРБ Малоярославецкого района",116,244.56082999999998,160,{"$f":"Таблица1[[#This Row],[Оплачено случаев]]-Таблица1[[#This Row],[План ДВН, чел.]]","v":-44},{"$f":"ROUND(Таблица1[[#This Row],[Оплачено случаев]]/Таблица1[[#This Row],[План ДВН, чел.]]*100,1)","v":72.5}]
["Август","ДВН","ЦРБ  Тарусского района",42,91.877049999999997,25,{"$f":"Таблица1[[#This Row],[Оплачено случаев]]-Таблица1[[#This Row],[План ДВН, чел.]]","v":17},{"$f":"ROUND(Таблица1[[#This Row],[Оплачено случаев]]/Таблица1[[#This Row],[План ДВН, чел.]]*100,1)","v":168}]
["Сентябрь","ДВН","ЦМБ № 1",{"$f":"AX4","v":115},{"$f":"AY4","v":240.80429000000001},{"$f":"AZ4","v":125},{"$f":"Таблица1[[#This Row],[Оплачено случаев]]-Таблица1[[#This Row],[План ДВН, чел.]]","v":-10},{"$f":"ROUND(Таблица1[[#This Row],[Оплачено случаев]]/Таблица1[[#This Row],[План ДВН, чел.]]*100,1)","v":92}]
["Сентябрь","ДВН","ЦМБ № 2",246,476.29136,200,{"$f":"Таблица1[[#This Row],[Оплачено случаев]]-Таблица1[[#This Row],[План ДВН, чел.]]","v":46},{"$f":"ROUND(Таблица1[[#This Row],[Оплачено случаев]]/Таблица1[[#This Row],[План ДВН, чел.]]*100,1)","v":123}]
["Сентябрь","ДВН","ЦМБ № 3",74,153.86296999999999,165,{"$f":"Таблица1[[#This Row],[Оплачено случаев]]-Таблица1[[#This Row],[План ДВН, чел.]]","v":-91},{"$f":"ROUND(Таблица1[[#This Row],[Оплачено случаев]]/Таблица1[[#This Row],[План ДВН, чел.]]*100,1)","v":44.8}]
["Сентябрь","ДВН","ЦМБ № 4",28,56.298389999999998,42,{"$f":"Таблица1[[#This Row],[Оплачено случаев]]-Таблица1[[#This Row],[План ДВН, чел.]]","v":-14},{"$f":"ROUND(Таблица1[[#This Row],[Оплачено случаев]]/Таблица1[[#This Row],[План ДВН, чел.]]*100,1)","v":66.7}]
["Сентябрь","ДВН","ЦМБ № 5",56,117.00561,223,{"$f":"Таблица1[[#This Row],[Оплачено случаев]]-Таблица1[[#This Row],[План ДВН, чел.]]","v":-167},{"$f":"ROUND(Таблица1[[#This Row],[Оплачено случаев]]/Таблица1[[#This Row],[План ДВН, чел.]]*100,1)","v":25.1}]
["Сентябрь","ДВН","ЦМБ № 6",134,277.17278999999996,160,{"$f":"Таблица1[[#This Row],[Оплачено случаев]]-Таблица1[[#This Row],[План ДВН, чел.]]","v":-26},{"$f":"ROUND(Таблица1[[#This Row],[Оплачено случаев]]/Таблица1[[#This Row],[План ДВН, чел.]]*100,1)","v":83.8}]
["Сентябрь","ДВН","КГБ № 5",975,1913.30692,1288,{"$f":"Таблица1[[#This Row],[Оплачено случаев]]-Таблица1[[#This Row],[План ДВН, чел.]]","v":-313},{"$f":"ROUND(Таблица1[[#This Row],[Оплачено случаев]]/Таблица1[[#This Row],[План ДВН, чел.]]*100,1)","v":75.7}]
["Сентябрь","ДВН","КГКБ № 4",532,1113.2213300000001,430,{"$f":"Таблица1[[#This Row],[Оплачено случаев]]-Таблица1[[#This Row],[План ДВН, чел.]]","v":102},{"$f":"ROUND(Таблица1[[#This Row],[Оплачено случаев]]/Таблица1[[#This Row],[План ДВН, чел.]]*100,1)","v":123.7}]
["Сентябрь","ДВН","Городская поликлиника",298,645.42852000000005,323,{"$f":"Таблица1[[#This Row],[Оплачено случаев]]-Таблица1[[#This Row],[План ДВН, чел.]]","v":-25},{"$f":"ROUND(Таблица1[[#This Row],[Оплачено случаев]]/Таблица1[[#This Row],[План ДВН, чел.]]*100,1)","v":92.3}]
["Сентябрь","ДВН","МСЧ № 1 г. Калуги",0,0,120,{"$f":"Таблица1[[#This Row],[Оплачено случаев]]-Таблица1[[#This Row],[План ДВН, чел.]]","v":-120},{"$f":"ROUND(Таблица1[[#This Row],[Оплачено случаев]]/Таблица1[[#This Row],[План ДВН, чел.]]*100,1)","v":0}]
["Сентябрь","ДВН","МСЧ № 2 г. Калуги",0,0,1,{"$f":"Таблица1[[#This Row],[Оплачено случаев]]-Таблица1[[#This Row],[План ДВН, чел.]]","v":-1},{"$f":"ROUND(Таблица1[[#This Row],[Оплачено случаев]]/Таблица1[[#This Row],[План ДВН, чел.]]*100,1)","v":0}]
["Сентябрь","ДВН","МСЧ МВД",0,0,1,{"$f":"Таблица1[[#This Row],[Оплачено случаев]]-Таблица1[[#This Row],[План ДВН, чел.]]","v":-1},{"$f":"ROUND(Таблица1[[#This Row],[Оплачено случаев]]/Таблица1[[#This Row],[План ДВН, чел.]]*100,1)","v":0}]
["Сентябрь","ДВН","ЧУЗ \"Больница \"РЖД - Медицина\" ",45,95.45353999999999,26,{"$f":"Таблица1[[#This Row],[Оплачено случаев]]-Таблица1[[#This Row],[План ДВН, чел.]]","v":19},{"$f":"ROUND(Таблица1[[#This Row],[Оплачено случаев]]/Таблица1[[#This Row],[План ДВН, чел.]]*100,1)","v":173.1}]
["Сентябрь","ДВН","КБ № 8 ФМБА",1412,2791.8743999999997,729,{"$f":"Таблица1[[#This Row],[Оплачено случаев]]-Таблица1[[#This Row],[План ДВН, чел.]]","v":683},{"$f":"ROUND(Таблица1[[#This Row],[Оплачено случаев]]/Таблица1[[#This Row],[План ДВН, чел.]]*100,1)","v":193.7}]
["Сентябрь","ДВН","ЦРБ Бабынинского района",67,141.02173000000002,62,{"$f":"Таблица1[[#This Row],[Оплачено случаев]]-Таблица1[[#This Row],[План ДВН, чел.]]","v":5},{"$f":"ROUND(Таблица1[[#This Row],[Оплачено случаев]]/Таблица1[[#This Row],[План ДВН, чел.]]*100,1)","v":108.1}]
["Сентябрь","ДВН","ЦРБ Боровского района",172,365.46785,328,{"$f":"Таблица1[[#This Row],[Оплачено случаев]]-Таблица1[[#This Row],[План ДВН, чел.]]","v":-156},{"$f":"ROUND(Таблица1[[#This Row],[Оплачено случаев]]/Таблица1[[#This Row],[План ДВН, чел.]]*100,1)","v":52.4}]
["Сентябрь","ДВН","ЦРБ Жуковского района",177,380.15840999999995,82,{"$f":"Таблица1[[#This Row],[Оплачено случаев]]-Таблица1[[#This Row],[План ДВН, чел.]]","v":95},{"$f":"ROUND(Таблица1[[#This Row],[Оплачено случаев]]/Таблица1[[#This Row],[План ДВН, чел.]]*100,1)","v":215.9}]
["Сентябрь","ДВН","ГП \"Город Кременки\"",19,39.07461,28,{"$f":"Таблица1[[#This Row],[Оплачено случаев]]-Таблица1[[#This Row],[План ДВН, чел.]]","v":-9},{"$f":"ROUND(Таблица1[[#This Row],[Оплачено случаев]]/Таблица1[[#This Row],[План ДВН, чел.]]*100,1)","v":67.900000000000006}]
["Сентябрь","ДВН","ЦРБ Малоярославецкого района",122,237.49151999999998,160,{"$f":"Таблица1[[#This Row],[Оплачено случаев]]-Таблица1[[#This Row],[План ДВН, чел.]]","v":-38},{"$f":"ROUND(Таблица1[[#This Row],[Оплачено случаев]]/Таблица1[[#This Row],[План ДВН, чел.]]*100,1)","v":76.3}]
["Сентябрь","ДВН","ЦРБ  Тарусского района",49,99.055089999999993,30,{"$f":"Таблица1[[#This Row],[Оплачено случаев]]-Таблица1[[#This Row],[План ДВН, чел.]]","v":19},{"$f":"ROUND(Таблица1[[#This Row],[Оплачено случаев]]/Таблица1[[#This Row],[План ДВН, чел.]]*100,1)","v":163.30000000000001}]
["Октябрь","ДВН","ЦМБ № 1",{"$f":"BC4","v":152},{"$f":"BD4","v":309.97318999999999},{"$f":"BE4","v":152},{"$f":"Таблица1[[#This Row],[Оплачено случаев]]-Таблица1[[#This Row],[План ДВН, чел.]]","v":0},{"$f":"ROUND(Таблица1[[#This Row],[Оплачено случаев]]/Таблица1[[#This Row],[План ДВН, чел.]]*100,1)","v":100}]
["Октябрь","ДВН","ЦМБ № 2",201,399.94567000000001,200,{"$f":"Таблица1[[#This Row],[Оплачено случаев]]-Таблица1[[#This Row],[План ДВН, чел.]]","v":1},{"$f":"ROUND(Таблица1[[#This Row],[Оплачено случаев]]/Таблица1[[#This Row],[План ДВН, чел.]]*100,1)","v":100.5}]
["Октябрь","ДВН","ЦМБ № 3",82,165.52928,165,{"$f":"Таблица1[[#This Row],[Оплачено случаев]]-Таблица1[[#This Row],[План ДВН, чел.]]","v":-83},{"$f":"ROUND(Таблица1[[#This Row],[Оплачено случаев]]/Таблица1[[#This Row],[План ДВН, чел.]]*100,1)","v":49.7}]
["Октябрь","ДВН","ЦМБ № 4",56,122.81861000000001,42,{"$f":"Таблица1[[#This Row],[Оплачено случаев]]-Таблица1[[#This Row],[План ДВН, чел.]]","v":14},{"$f":"ROUND(Таблица1[[#This Row],[Оплачено случаев]]/Таблица1[[#This Row],[План ДВН, чел.]]*100,1)","v":133.30000000000001}]
["Октябрь","ДВН","ЦМБ № 5",146,299.67039,188,{"$f":"Таблица1[[#This Row],[Оплачено случаев]]-Таблица1[[#This Row],[План ДВН, чел.]]","v":-42},{"$f":"ROUND(Таблица1[[#This Row],[Оплачено случаев]]/Таблица1[[#This Row],[План ДВН, чел.]]*100,1)","v":77.7}]
["Октябрь","ДВН","ЦМБ № 6",226,452.38971999999995,160,{"$f":"Таблица1[[#This Row],[Оплачено случаев]]-Таблица1[[#This Row],[План ДВН, чел.]]","v":66},{"$f":"ROUND(Таблица1[[#This Row],[Оплачено случаев]]/Таблица1[[#This Row],[План ДВН, чел.]]*100,1)","v":141.30000000000001}]
["Октябрь","ДВН","КГБ № 5",192,374.73404999999997,814,{"$f":"Таблица1[[#This Row],[Оплачено случаев]]-Таблица1[[#This Row],[План ДВН, чел.]]","v":-622},{"$f":"ROUND(Таблица1[[#This Row],[Оплачено случаев]]/Таблица1[[#This Row],[План ДВН, чел.]]*100,1)","v":23.6}]
["Октябрь","ДВН","КГКБ № 4",924,1880.1195700000001,430,{"$f":"Таблица1[[#This Row],[Оплачено случаев]]-Таблица1[[#This Row],[План ДВН, чел.]]","v":494},{"$f":"ROUND(Таблица1[[#This Row],[Оплачено случаев]]/Таблица1[[#This Row],[План ДВН, чел.]]*100,1)","v":214.9}]
["Октябрь","ДВН","Городская поликлиника",411,861.74831000000006,323,{"$f":"Таблица1[[#This Row],[Оплачено случаев]]-Таблица1[[#This Row],[План ДВН, чел.]]","v":88},{"$f":"ROUND(Таблица1[[#This Row],[Оплачено случаев]]/Таблица1[[#This Row],[План ДВН, чел.]]*100,1)","v":127.2}]
["Октябрь","ДВН","МСЧ № 1 г. Калуги",1,1.78183,120,{"$f":"Таблица1[[#This Row],[Оплачено случаев]]-Таблица1[[#This Row],[План ДВН, чел.]]","v":-119},{"$f":"ROUND(Таблица1[[#This Row],[Оплачено случаев]]/Таблица1[[#This Row],[План ДВН, чел.]]*100,1)","v":0.8}]
["Октябрь","ДВН","МСЧ № 2 г. Калуги",0,0,1,{"$f":"Таблица1[[#This Row],[Оплачено случаев]]-Таблица1[[#This Row],[План ДВН, чел.]]","v":-1},{"$f":"ROUND(Таблица1[[#This Row],[Оплачено случаев]]/Таблица1[[#This Row],[План ДВН, чел.]]*100,1)","v":0}]
["Октябрь","ДВН","МСЧ МВД",0,0,1,{"$f":"Таблица1[[#This Row],[Оплачено случаев]]-Таблица1[[#This Row],[План ДВН, чел.]]","v":-1},{"$f":"ROUND(Таблица1[[#This Row],[Оплачено случаев]]/Таблица1[[#This Row],[План ДВН, чел.]]*100,1)","v":0}]
["Октябрь","ДВН","ЧУЗ \"Больница \"РЖД - Медицина\" ",93,191.50892000000002,26,{"$f":"Таблица1[[#This Row],[Оплачено случаев]]-Таблица1[[#This Row],[План ДВН, чел.]]","v":67},{"$f":"ROUND(Таблица1[[#This Row],[Оплачено случаев]]/Таблица1[[#This Row],[План ДВН, чел.]]*100,1)","v":357.7}]
["Октябрь","ДВН","КБ № 8 ФМБА",1400,2746.67884,729,{"$f":"Таблица1[[#This Row],[Оплачено случаев]]-Таблица1[[#This Row],[План ДВН, чел.]]","v":671},{"$f":"ROUND(Таблица1[[#This Row],[Оплачено случаев]]/Таблица1[[#This Row],[План ДВН, чел.]]*100,1)","v":192}]
["Октябрь","ДВН","ЦРБ Бабынинского района",56,106.47338000000001,62,{"$f":"Таблица1[[#This Row],[Оплачено случаев]]-Таблица1[[#This Row],[План ДВН, чел.]]","v":-6},{"$f":"ROUND(Таблица1[[#This Row],[Оплачено случаев]]/Таблица1[[#This Row],[План ДВН, чел.]]*100,1)","v":90.3}]
["Октябрь","ДВН","ЦРБ Боровского района",126,275.79358000000002,325,{"$f":"Таблица1[[#This Row],[Оплачено случаев]]-Таблица1[[#This Row],[План ДВН, чел.]]","v":-199},{"$f":"ROUND(Таблица1[[#This Row],[Оплачено случаев]]/Таблица1[[#This Row],[План ДВН, чел.]]*100,1)","v":38.799999999999997}]
["Октябрь","ДВН","ЦРБ Жуковского района",299,610.15918000000011,82,{"$f":"Таблица1[[#This Row],[Оплачено случаев]]-Таблица1[[#This Row],[План ДВН, чел.]]","v":217},{"$f":"ROUND(Таблица1[[#This Row],[Оплачено случаев]]/Таблица1[[#This Row],[План ДВН, чел.]]*100,1)","v":364.6}]
["Октябрь","ДВН","ГП \"Город Кременки\"",35,79.580649999999991,28,{"$f":"Таблица1[[#This Row],[Оплачено случаев]]-Таблица1[[#This Row],[План ДВН, чел.]]","v":7},{"$f":"ROUND(Таблица1[[#This Row],[Оплачено случаев]]/Таблица1[[#This Row],[План ДВН, чел.]]*100,1)","v":125}]
["Октябрь","ДВН","ЦРБ Малоярославецкого района",127,238.56223,160,{"$f":"Таблица1[[#This Row],[Оплачено случаев]]-Таблица1[[#This Row],[План ДВН, чел.]]","v":-33},{"$f":"ROUND(Таблица1[[#This Row],[Оплачено случаев]]/Таблица1[[#This Row],[План ДВН, чел.]]*100,1)","v":79.400000000000006}]
["Октябрь","ДВН","ЦРБ  Тарусского района",72,148.06321,25,{"$f":"Таблица1[[#This Row],[Оплачено случаев]]-Таблица1[[#This Row],[План ДВН, чел.]]","v":47},{"$f":"ROUND(Таблица1[[#This Row],[Оплачено случаев]]/Таблица1[[#This Row],[План ДВН, чел.]]*100,1)","v":288}]
["Ноябрь","ДВН","ЦМБ № 1",{"$f":"BH4","v":101},{"$f":"BI4","v":212.05670999999998},{"$f":"BJ4","v":127},{"$f":"Таблица1[[#This Row],[Оплачено случаев]]-Таблица1[[#This Row],[План ДВН, чел.]]","v":-26},{"$f":"ROUND(Таблица1[[#This Row],[Оплачено случаев]]/Таблица1[[#This Row],[План ДВН, чел.]]*100,1)","v":79.5}]
["Ноябрь","ДВН","ЦМБ № 2",363,747.85148000000004,187,{"$f":"Таблица1[[#This Row],[Оплачено случаев]]-Таблица1[[#This Row],[План ДВН, чел.]]","v":176},{"$f":"ROUND(Таблица1[[#This Row],[Оплачено случаев]]/Таблица1[[#This Row],[План ДВН, чел.]]*100,1)","v":194.1}]
["Ноябрь","ДВН","ЦМБ № 3",219,458.68374999999997,152,{"$f":"Таблица1[[#This Row],[Оплачено случаев]]-Таблица1[[#This Row],[План ДВН, чел.]]","v":67},{"$f":"ROUND(Таблица1[[#This Row],[Оплачено случаев]]/Таблица1[[#This Row],[План ДВН, чел.]]*100,1)","v":144.1}]
["Ноябрь","ДВН","ЦМБ № 4",98,216.81565000000001,40,{"$f":"Таблица1[[#This Row],[Оплачено случаев]]-Таблица1[[#This Row],[План ДВН, чел.]]","v":58},{"$f":"ROUND(Таблица1[[#This Row],[Оплачено случаев]]/Таблица1[[#This Row],[План ДВН, чел.]]*100,1)","v":245}]
["Ноябрь","ДВН","ЦМБ № 5",186,386.11346999999995,150,{"$f":"Таблица1[[#This Row],[Оплачено случаев]]-Таблица1[[#This Row],[План ДВН, чел.]]","v":36},{"$f":"ROUND(Таблица1[[#This Row],[Оплачено случаев]]/Таблица1[[#This Row],[План ДВН, чел.]]*100,1)","v":124}]
["Ноябрь","ДВН","ЦМБ № 6",453,931.58338000000003,157,{"$f":"Таблица1[[#This Row],[Оплачено случаев]]-Таблица1[[#This Row],[План ДВН, чел.]]","v":296},{"$f":"ROUND(Таблица1[[#This Row],[Оплачено случаев]]/Таблица1[[#This Row],[План ДВН, чел.]]*100,1)","v":288.5}]
["Ноябрь","ДВН","КГБ № 5",1018,2064.8105700000001,815,{"$f":"Таблица1[[#This Row],[Оплачено случаев]]-Таблица1[[#This Row],[План ДВН, чел.]]","v":203},{"$f":"ROUND(Таблица1[[#This Row],[Оплачено случаев]]/Таблица1[[#This Row],[План ДВН, чел.]]*100,1)","v":124.9}]
["Ноябрь","ДВН","КГКБ № 4",773,1632.92902,400,{"$f":"Таблица1[[#This Row],[Оплачено случаев]]-Таблица1[[#This Row],[План ДВН, чел.]]","v":373},{"$f":"ROUND(Таблица1[[#This Row],[Оплачено случаев]]/Таблица1[[#This Row],[План ДВН, чел.]]*100,1)","v":193.3}]
["Ноябрь","ДВН","Городская поликлиника",452,983.70811000000003,325,{"$f":"Таблица1[[#This Row],[Оплачено случаев]]-Таблица1[[#This Row],[План ДВН, чел.]]","v":127},{"$f":"ROUND(Таблица1[[#This Row],[Оплачено случаев]]/Таблица1[[#This Row],[План ДВН, чел.]]*100,1)","v":139.1}]
["Ноябрь","ДВН","МСЧ № 1 г. Калуги",6,11.526909999999999,120,{"$f":"Таблица1[[#This Row],[Оплачено случаев]]-Таблица1[[#This Row],[План ДВН, чел.]]","v":-114},{"$f":"ROUND(Таблица1[[#This Row],[Оплачено случаев]]/Таблица1[[#This Row],[План ДВН, чел.]]*100,1)","v":5}]
["Ноябрь","ДВН","МСЧ № 2 г. Калуги",0,0,1,{"$f":"Таблица1[[#This Row],[Оплачено случаев]]-Таблица1[[#This Row],[План ДВН, чел.]]","v":-1},{"$f":"ROUND(Таблица1[[#This Row],[Оплачено случаев]]/Таблица1[[#This Row],[План ДВН, чел.]]*100,1)","v":0}]
["Ноябрь","ДВН","МСЧ МВД",0,0,1,{"$f":"Таблица1[[#This Row],[Оплачено случаев]]-Таблица1[[#This Row],[План ДВН, чел.]]","v":-1},{"$f":"ROUND(Таблица1[[#This Row],[Оплачено случаев]]/Таблица1[[#This Row],[План ДВН, чел.]]*100,1)","v":0}]
["Ноябрь","ДВН","ЧУЗ \"Больница \"РЖД - Медицина\" ",73,145.44839000000002,29,{"$f":"Таблица1[[#This Row],[Оплачено случаев]]-Таблица1[[#This Row],[План ДВН, чел.]]","v":44},{"$f":"ROUND(Таблица1[[#This Row],[Оплачено случаев]]/Таблица1[[#This Row],[План ДВН, чел.]]*100,1)","v":251.7}]
["Ноябрь","ДВН","КБ № 8 ФМБА",1294,2563.6596199999999,704,{"$f":"Таблица1[[#This Row],[Оплачено случаев]]-Таблица1[[#This Row],[План ДВН, чел.]]","v":590},{"$f":"ROUND(Таблица1[[#This Row],[Оплачено случаев]]/Таблица1[[#This Row],[План ДВН, чел.]]*100,1)","v":183.8}]
["Ноябрь","ДВН","ЦРБ Бабынинского района",57,111.87532,62,{"$f":"Таблица1[[#This Row],[Оплачено случаев]]-Таблица1[[#This Row],[План ДВН, чел.]]","v":-5},{"$f":"ROUND(Таблица1[[#This Row],[Оплачено случаев]]/Таблица1[[#This Row],[План ДВН, чел.]]*100,1)","v":91.9}]
["Ноябрь","ДВН","ЦРБ Боровского района",339,706.99967000000004,309,{"$f":"Таблица1[[#This Row],[Оплачено случаев]]-Таблица1[[#This Row],[План ДВН, чел.]]","v":30},{"$f":"ROUND(Таблица1[[#This Row],[Оплачено случаев]]/Таблица1[[#This Row],[План ДВН, чел.]]*100,1)","v":109.7}]
["Ноябрь","ДВН","ЦРБ Жуковского района",606,1408.15454,82,{"$f":"Таблица1[[#This Row],[Оплачено случаев]]-Таблица1[[#This Row],[План ДВН, чел.]]","v":524},{"$f":"ROUND(Таблица1[[#This Row],[Оплачено случаев]]/Таблица1[[#This Row],[План ДВН, чел.]]*100,1)","v":739}]
["Ноябрь","ДВН","ГП \"Город Кременки\"",17,38.29401,22,{"$f":"Таблица1[[#This Row],[Оплачено случаев]]-Таблица1[[#This Row],[План ДВН, чел.]]","v":-5},{"$f":"ROUND(Таблица1[[#This Row],[Оплачено случаев]]/Таблица1[[#This Row],[План ДВН, чел.]]*100,1)","v":77.3}]
["Ноябрь","ДВН","ЦРБ Малоярославецкого района",154,315.46719000000002,140,{"$f":"Таблица1[[#This Row],[Оплачено случаев]]-Таблица1[[#This Row],[План ДВН, чел.]]","v":14},{"$f":"ROUND(Таблица1[[#This Row],[Оплачено случаев]]/Таблица1[[#This Row],[План ДВН, чел.]]*100,1)","v":110}]
["Ноябрь","ДВН","ЦРБ  Тарусского района",28,59.629829999999998,10,{"$f":"Таблица1[[#This Row],[Оплачено случаев]]-Таблица1[[#This Row],[План ДВН, чел.]]","v":18},{"$f":"ROUND(Таблица1[[#This Row],[Оплачено случаев]]/Таблица1[[#This Row],[План ДВН, чел.]]*100,1)","v":280}]
["Декабрь","ДВН","ЦМБ № 1",{"$f":"BM4","v":151},{"$f":"BN4","v":319.30753000000004},{"$f":"BO4","v":0},{"$f":"Таблица1[[#This Row],[Оплачено случаев]]-Таблица1[[#This Row],[План ДВН, чел.]]","v":151},{"$f":"ROUND(Таблица1[[#This Row],[Оплачено случаев]]/Таблица1[[#This Row],[План ДВН, чел.]]*100,1)","v":{"$error":"#DIV/0!"}}]
["Декабрь","ДВН","ЦМБ № 2",9,17.167480000000001,0,{"$f":"Таблица1[[#This Row],[Оплачено случаев]]-Таблица1[[#This Row],[План ДВН, чел.]]","v":9},{"$f":"ROUND(Таблица1[[#This Row],[Оплачено случаев]]/Таблица1[[#This Row],[План ДВН, чел.]]*100,1)","v":{"$error":"#DIV/0!"}}]
["Декабрь","ДВН","ЦМБ № 3",70,138.17657,0,{"$f":"Таблица1[[#This Row],[Оплачено случаев]]-Таблица1[[#This Row],[План ДВН, чел.]]","v":70},{"$f":"ROUND(Таблица1[[#This Row],[Оплачено случаев]]/Таблица1[[#This Row],[План ДВН, чел.]]*100,1)","v":{"$error":"#DIV/0!"}}]
["Декабрь","ДВН","ЦМБ № 4",113,251.99163000000001,0,{"$f":"Таблица1[[#This Row],[Оплачено случаев]]-Таблица1[[#This Row],[План ДВН, чел.]]","v":113},{"$f":"ROUND(Таблица1[[#This Row],[Оплачено случаев]]/Таблица1[[#This Row],[План ДВН, чел.]]*100,1)","v":{"$error":"#DIV/0!"}}]
["Декабрь","ДВН","ЦМБ № 5",70,154.67298000000002,0,{"$f":"Таблица1[[#This Row],[Оплачено случаев]]-Таблица1[[#This Row],[План ДВН, чел.]]","v":70},{"$f":"ROUND(Таблица1[[#This Row],[Оплачено случаев]]/Таблица1[[#This Row],[План ДВН, чел.]]*100,1)","v":{"$error":"#DIV/0!"}}]
["Декабрь","ДВН","ЦМБ № 6",606,1208.7497800000001,0,{"$f":"Таблица1[[#This Row],[Оплачено случаев]]-Таблица1[[#This Row],[План ДВН, чел.]]","v":606},{"$f":"ROUND(Таблица1[[#This Row],[Оплачено случаев]]/Таблица1[[#This Row],[План ДВН, чел.]]*100,1)","v":{"$error":"#DIV/0!"}}]
["Декабрь","ДВН","КГБ № 5",102,207.82760999999999,0,{"$f":"Таблица1[[#This Row],[Оплачено случаев]]-Таблица1[[#This Row],[План ДВН, чел.]]","v":102},{"$f":"ROUND(Таблица1[[#This Row],[Оплачено случаев]]/Таблица1[[#This Row],[План ДВН, чел.]]*100,1)","v":{"$error":"#DIV/0!"}}]
["Декабрь","ДВН","КГКБ № 4",649,1366.3779399999999,0,{"$f":"Таблица1[[#This Row],[Оплачено случаев]]-Таблица1[[#This Row],[План ДВН, чел.]]","v":649},{"$f":"ROUND(Таблица1[[#This Row],[Оплачено случаев]]/Таблица1[[#This Row],[План ДВН, чел.]]*100,1)","v":{"$error":"#DIV/0!"}}]
["Декабрь","ДВН","Городская поликлиника",550,1190.1210599999999,0,{"$f":"Таблица1[[#This Row],[Оплачено случаев]]-Таблица1[[#This Row],[План ДВН, чел.]]","v":550},{"$f":"ROUND(Таблица1[[#This Row],[Оплачено случаев]]/Таблица1[[#This Row],[План ДВН, чел.]]*100,1)","v":{"$error":"#DIV/0!"}}]
["Декабрь","ДВН","МСЧ № 1 г. Калуги",50,83.849170000000001,0,{"$f":"Таблица1[[#This Row],[Оплачено случаев]]-Таблица1[[#This Row],[План ДВН, чел.]]","v":50},{"$f":"ROUND(Таблица1[[#This Row],[Оплачено случаев]]/Таблица1[[#This Row],[План ДВН, чел.]]*100,1)","v":{"$error":"#DIV/0!"}}]
["Декабрь","ДВН","МСЧ № 2 г. Калуги",0,0,0,{"$f":"Таблица1[[#This Row],[Оплачено случаев]]-Таблица1[[#This Row],[План ДВН, чел.]]","v":0},{"$f":"ROUND(Таблица1[[#This Row],[Оплачено случаев]]/Таблица1[[#This Row],[План ДВН, чел.]]*100,1)","v":{"$error":"#DIV/0!"}}]
["Декабрь","ДВН","МСЧ МВД",0,0,0,{"$f":"Таблица1[[#This Row],[Оплачено случаев]]-Таблица1[[#This Row],[План ДВН, чел.]]","v":0},{"$f":"ROUND(Таблица1[[#This Row],[Оплачено случаев]]/Таблица1[[#This Row],[План ДВН, чел.]]*100,1)","v":{"$error":"#DIV/0!"}}]
["Декабрь","ДВН","ЧУЗ \"Больница \"РЖД - Медицина\" ",8,18.084139999999998,0,{"$f":"Таблица1[[#This Row],[Оплачено случаев]]-Таблица1[[#This Row],[План ДВН, чел.]]","v":8},{"$f":"ROUND(Таблица1[[#This Row],[Оплачено случаев]]/Таблица1[[#This Row],[План ДВН, чел.]]*100,1)","v":{"$error":"#DIV/0!"}}]
["Декабрь","ДВН","КБ № 8 ФМБА",330,623.81878000000006,0,{"$f":"Таблица1[[#This Row],[Оплачено случаев]]-Таблица1[[#This Row],[План ДВН, чел.]]","v":330},{"$f":"ROUND(Таблица1[[#This Row],[Оплачено случаев]]/Таблица1[[#This Row],[План ДВН, чел.]]*100,1)","v":{"$error":"#DIV/0!"}}]
["Декабрь","ДВН","ЦРБ Бабынинского района",214,454.94347999999997,0,{"$f":"Таблица1[[#This Row],[Оплачено случаев]]-Таблица1[[#This Row],[План ДВН, чел.]]","v":214},{"$f":"ROUND(Таблица1[[#This Row],[Оплачено случаев]]/Таблица1[[#This Row],[План ДВН, чел.]]*100,1)","v":{"$error":"#DIV/0!"}}]
["Декабрь","ДВН","ЦРБ Боровского района",668,1361.62453,0,{"$f":"Таблица1[[#This Row],[Оплачено случаев]]-Таблица1[[#This Row],[План ДВН, чел.]]","v":668},{"$f":"ROUND(Таблица1[[#This Row],[Оплачено случаев]]/Таблица1[[#This Row],[План ДВН, чел.]]*100,1)","v":{"$error":"#DIV/0!"}}]
["Декабрь","ДВН","ЦРБ Жуковского района",360,865.04228000000001,0,{"$f":"Таблица1[[#This Row],[Оплачено случаев]]-Таблица1[[#This Row],[План ДВН, чел.]]","v":360},{"$f":"ROUND(Таблица1[[#This Row],[Оплачено случаев]]/Таблица1[[#This Row],[План ДВН, чел.]]*100,1)","v":{"$error":"#DIV/0!"}}]
["Декабрь","ДВН","ГП \"Город Кременки\"",234,486.31196999999997,0,{"$f":"Таблица1[[#This Row],[Оплачено случаев]]-Таблица1[[#This Row],[План ДВН, чел.]]","v":234},{"$f":"ROUND(Таблица1[[#This Row],[Оплачено случаев]]/Таблица1[[#This Row],[План ДВН, чел.]]*100,1)","v":{"$error":"#DIV/0!"}}]
["Декабрь","ДВН","ЦРБ Малоярославецкого района",90,184.57595999999998,0,{"$f":"Таблица1[[#This Row],[Оплачено случаев]]-Таблица1[[#This Row],[План ДВН, чел.]]","v":90},{"$f":"ROUND(Таблица1[[#This Row],[Оплачено случаев]]/Таблица1[[#This Row],[План ДВН, чел.]]*100,1)","v":{"$error":"#DIV/0!"}}]
["Декабрь","ДВН","ЦРБ  Тарусского района",125,275.87759999999997,0,{"$f":"Таблица1[[#This Row],[Оплачено случаев]]-Таблица1[[#This Row],[План ДВН, чел.]]","v":125},{"$f":"ROUND(Таблица1[[#This Row],[Оплачено случаев]]/Таблица1[[#This Row],[План ДВН, чел.]]*100,1)","v":{"$error":"#DIV/0!"}}]

{"sheet":"Все МО","index":1,"n_rows":24,"n_cols":3,"rows_kept":24,"cut":false,"hidden":true,"merged":[]}
["Месяц","Ноябрь"]
[]
["Названия строк","Оплачено случаев ","План ДВН, чел. "]
["МСЧ МВД",0,1]
["МСЧ № 2 г. Калуги",0,1]
["МСЧ № 1 г. Калуги",6,120]
["ГП \"Город Кременки\"",17,22]
["ЦРБ  Тарусского района",28,10]
["ЦРБ Бабынинского района",57,62]
["ЧУЗ \"Больница \"РЖД - Медицина\" ",73,29]
["ЦМБ № 4",98,40]
["ЦМБ № 1",101,127]
["ЦРБ Малоярославецкого района",154,140]
["ЦМБ № 5",186,150]
["ЦМБ № 3",219,152]
["ЦРБ Боровского района",339,309]
["ЦМБ № 2",363,187]
["Городская поликлиника",452,325]
["ЦМБ № 6",453,157]
["ЦРБ Жуковского района",606,82]
["КГКБ № 4",773,400]
["КГБ № 5",1018,815]
["КБ № 8 ФМБА",1294,704]
["Общий итог",6237,3833]

{"sheet":"10 лучших","index":2,"n_rows":14,"n_cols":2,"rows_kept":14,"cut":false,"hidden":true,"merged":[]}
["Месяц","Ноябрь"]
[]
["Названия строк","% выполнения "]
["Городская поликлиника",139.1]
["ЦМБ № 3",144.1]
["КБ № 8 ФМБА",183.8]
["КГКБ № 4",193.3]
["ЦМБ № 2",194.1]
["ЦМБ № 4",245]
["ЧУЗ \"Больница \"РЖД - Медицина\" ",251.7]
["ЦРБ  Тарусского района",280]
["ЦМБ № 6",288.5]
["ЦРБ Жуковского района",739]
["Общий итог",265.86]

{"sheet":"10 худших","index":3,"n_rows":14,"n_cols":2,"rows_kept":14,"cut":false,"hidden":true,"merged":[]}
["Месяц","Ноябрь"]
[]
["Названия строк","% выполнения "]
["МСЧ № 2 г. Калуги",0]
["МСЧ МВД",0]
["МСЧ № 1 г. Калуги",5]
["ГП \"Город Кременки\"",77.3]
["ЦМБ № 1",79.5]
["ЦРБ Бабынинского района",91.9]
["ЦРБ Боровского района",109.7]
["ЦРБ Малоярославецкого района",110]
["ЦМБ № 5",124]
["КГБ № 5",124.9]
["Общий итог",72.22999999999999]

{"sheet":"Помесячно по МО","index":4,"n_rows":16,"n_cols":4,"rows_kept":16,"cut":false,"hidden":true,"merged":[]}
["Выполнение ДВН"]
[]
["Названия строк","Оплачено случаев ","План ДВН, чел. ","Отклонение "]
["Январь",406,203,203]
["Февраль",489,562,-73]
["Март",512,562,-50]
["Апрель",446,562,-116]
["Май",426,562,-136]
["Июнь",373,562,-189]
["Июль",427,562,-135]
["Август",288,323,-35]
["Сентябрь",298,323,-25]
["Октябрь",411,323,88]
["Ноябрь",452,325,127]
["Декабрь",550,0,550]
["Общий итог",5078,4869,209]

{"sheet":"Дашборд ДВН","index":5,"n_rows":2,"n_cols":1,"rows_kept":2,"cut":false,"hidden":false,"merged":[[1,0,1,24]]}
[]
["ПРОФИЛАКТИЧЕСКИЕ ОСМОТРЫ ВЗРОСЛОГО НАСЕЛЕНИЯ В 2023 ГОДУ"]